BEGIN:VCALENDAR
VERSION:2.0
PRODID:-//Alfred Box of Books Library - ECPv6.15.20//NONSGML v1.0//EN
CALSCALE:GREGORIAN
METHOD:PUBLISH
X-WR-CALNAME:Alfred Box of Books Library
X-ORIGINAL-URL:https://alfredboxofbookslibrary.org
X-WR-CALDESC:Events for Alfred Box of Books Library
REFRESH-INTERVAL;VALUE=DURATION:PT1H
X-Robots-Tag:noindex
X-PUBLISHED-TTL:PT1H
BEGIN:VTIMEZONE
TZID:UTC
BEGIN:STANDARD
TZOFFSETFROM:+0000
TZOFFSETTO:+0000
TZNAME:UTC
DTSTART:20250101T000000
END:STANDARD
END:VTIMEZONE
BEGIN:VEVENT
DTSTART;TZID=UTC:20260107T180000
DTEND;TZID=UTC:20260107T200000
DTSTAMP:20260420T064442
CREATED:20251119T201817Z
LAST-MODIFIED:20251119T201817Z
UID:4779-1767808800-1767816000@alfredboxofbookslibrary.org
SUMMARY:Adult Dungeons & Dragons
DESCRIPTION:Come play D&D at the Library! Everyone is welcome\, whether you’re an experienced player or completely new to the game! Dice\, character sheets\, and characters are available for anyone who needs them. \nThis event is 18+ only. If you are or know a teenager interested in playing D&D at the library\, please reach out and let us know! \nIf you are interested in learning more about the club\, please contact Caleb Fesmire at fesmirec@stls.org.
URL:https://alfredboxofbookslibrary.org/event/adult-dungeons-dragons-8/
LOCATION:Alfred Box of Books Library\, 1 West University Street\, Alfred\, NY\, 14802-1113\, United States
CATEGORIES:Adult Programs
ORGANIZER;CN="Alfred Box of Books Library":MAILTO:alfred@stls.org
END:VEVENT
BEGIN:VEVENT
DTSTART;TZID=UTC:20260112T130000
DTEND;TZID=UTC:20260112T140000
DTSTAMP:20260420T064442
CREATED:20251217T172124Z
LAST-MODIFIED:20251217T172124Z
UID:4819-1768222800-1768226400@alfredboxofbookslibrary.org
SUMMARY:Preparing For the Future: Advanced Planning
DESCRIPTION:The Center for Elder Law and Justice will be at the library to present a workshop on advanced planning documents.  Participants will gain an understanding of key legal documents such as Powers of Attorney\, Healthcare Proxies or Living Wills and Last Wills and Testaments. Registrations is required.  Please call 607-587-9290 or email alfred@stls.org.  
URL:https://alfredboxofbookslibrary.org/event/preparing-for-the-future-advanced-planning/
LOCATION:Alfred Box of Books Library\, 1 West University Street\, Alfred\, NY\, 14802-1113\, United States
CATEGORIES:Adult Programs
ORGANIZER;CN="Alfred Box of Books Library":MAILTO:alfred@stls.org
END:VEVENT
BEGIN:VEVENT
DTSTART;TZID=UTC:20260114T160000
DTEND;TZID=UTC:20260114T180000
DTSTAMP:20260420T064442
CREATED:20251217T172400Z
LAST-MODIFIED:20251217T172400Z
UID:4822-1768406400-1768413600@alfredboxofbookslibrary.org
SUMMARY:Stained Glass Book Ornament
DESCRIPTION:Erica Unterman from Aubergine Glass and Jewelry will lead a workshop in which participants will create their own stained glass ornament in the shape of a book. Learn the process of Tiffany stained glass\, and how to solder your work.   \nThis program is for ages 16+ only.  \nRegistration is required\, and must be completed 48 hours prior to the event.  \nRegister by emailing: alfred@stls.org\, or calling 607-587-9290. \n 
URL:https://alfredboxofbookslibrary.org/event/stained-glass-book-ornament/
LOCATION:Alfred Box of Books Library\, 1 West University Street\, Alfred\, NY\, 14802-1113\, United States
CATEGORIES:Adult Programs,Teen Program
ORGANIZER;CN="Alfred Box of Books Library":MAILTO:alfred@stls.org
END:VEVENT
BEGIN:VEVENT
DTSTART;TZID=UTC:20260121T180000
DTEND;TZID=UTC:20260121T200000
DTSTAMP:20260420T064442
CREATED:20251119T201931Z
LAST-MODIFIED:20260114T221648Z
UID:4781-1769018400-1769025600@alfredboxofbookslibrary.org
SUMMARY:Adult Dungeons & Dragons
DESCRIPTION:Come play D&D at the Library! Everyone is welcome\, whether you’re an experienced player or completely new to the game! Dice\, character sheets\, and characters are available for anyone who needs them. \nThis event is 18+ only. If you are or know a teenager interested in playing D&D at the library\, please reach out and let us know! \nIf you are interested in learning more about the club\, please contact Caleb Fesmire at fesmirec@stls.org.
URL:https://alfredboxofbookslibrary.org/event/adult-dungeons-dragons-9/
LOCATION:Alfred Box of Books Library\, 1 West University Street\, Alfred\, NY\, 14802-1113\, United States
CATEGORIES:Adult Programs
ORGANIZER;CN="Alfred Box of Books Library":MAILTO:alfred@stls.org
END:VEVENT
BEGIN:VEVENT
DTSTART;TZID=UTC:20260204T180000
DTEND;TZID=UTC:20260204T200000
DTSTAMP:20260420T064442
CREATED:20260114T221329Z
LAST-MODIFIED:20260114T221329Z
UID:4966-1770228000-1770235200@alfredboxofbookslibrary.org
SUMMARY:Adult Dungeons & Dragons
DESCRIPTION:Come play D&D at the Library! Everyone is welcome\, whether you’re an experienced player or completely new to the game! Dice\, character sheets\, and characters are available for anyone who needs them. \nThis event is 18+ only. If you are or know a teenager interested in playing D&D at the library\, please reach out and let us know! \nIf you are interested in learning more about the club\, please contact Caleb Fesmire at fesmirec@stls.org.
URL:https://alfredboxofbookslibrary.org/event/adult-dungeons-dragons-10/
LOCATION:Alfred Box of Books Library\, 1 West University Street\, Alfred\, NY\, 14802-1113\, United States
CATEGORIES:Adult Programs
ORGANIZER;CN="Alfred Box of Books Library":MAILTO:alfred@stls.org
END:VEVENT
BEGIN:VEVENT
DTSTART;TZID=UTC:20260205T160000
DTEND;TZID=UTC:20260205T180000
DTSTAMP:20260420T064442
CREATED:20260109T185947Z
LAST-MODIFIED:20260109T185947Z
UID:4896-1770307200-1770314400@alfredboxofbookslibrary.org
SUMMARY:Diamond Painted Coasters
DESCRIPTION:Diamond painting involves applying colorful rhinestones or “diamonds” to a pre-printed design on an adhesive coaster to create mosaic-like art.  Participants will make their own coaster with diamond painting! This program is for teens and adults only. Participants are welcome to bring their own snack and relax with this fun\, creative activity. \nRegister by emailing alfred@stls.org or calling 607-587-9290
URL:https://alfredboxofbookslibrary.org/event/diamond-painted-coasters/
LOCATION:Alfred Box of Books Library\, 1 West University Street\, Alfred\, NY\, 14802-1113\, United States
CATEGORIES:Adult Programs,Teen Program
ORGANIZER;CN="Alfred Box of Books Library":MAILTO:alfred@stls.org
END:VEVENT
BEGIN:VEVENT
DTSTART;TZID=UTC:20260218T180000
DTEND;TZID=UTC:20260218T200000
DTSTAMP:20260420T064442
CREATED:20260114T221457Z
LAST-MODIFIED:20260114T221457Z
UID:4969-1771437600-1771444800@alfredboxofbookslibrary.org
SUMMARY:Adult Dungeons & Dragons
DESCRIPTION:Come play D&D at the Library! Everyone is welcome\, whether you’re an experienced player or completely new to the game! Dice\, character sheets\, and characters are available for anyone who needs them. \nThis event is 18+ only. If you are or know a teenager interested in playing D&D at the library\, please reach out and let us know! \nIf you are interested in learning more about the club\, please contact Caleb Fesmire at fesmirec@stls.org.
URL:https://alfredboxofbookslibrary.org/event/adult-dungeons-dragons-11/
LOCATION:Alfred Box of Books Library\, 1 West University Street\, Alfred\, NY\, 14802-1113\, United States
CATEGORIES:Adult Programs
ORGANIZER;CN="Alfred Box of Books Library":MAILTO:alfred@stls.org
END:VEVENT
BEGIN:VEVENT
DTSTART;TZID=UTC:20260304T180000
DTEND;TZID=UTC:20260304T200000
DTSTAMP:20260420T064442
CREATED:20260114T221759Z
LAST-MODIFIED:20260114T221759Z
UID:4972-1772647200-1772654400@alfredboxofbookslibrary.org
SUMMARY:Adult Dungeons & Dragons
DESCRIPTION:Come play D&D at the Library! Everyone is welcome\, whether you’re an experienced player or completely new to the game! Dice\, character sheets\, and characters are available for anyone who needs them. \nThis event is 18+ only. If you are or know a teenager interested in playing D&D at the library\, please reach out and let us know! \nIf you are interested in learning more about the club\, please contact Caleb Fesmire at fesmirec@stls.org.
URL:https://alfredboxofbookslibrary.org/event/adult-dungeons-dragons-12/
LOCATION:Alfred Box of Books Library\, 1 West University Street\, Alfred\, NY\, 14802-1113\, United States
CATEGORIES:Adult Programs
ORGANIZER;CN="Alfred Box of Books Library":MAILTO:alfred@stls.org
END:VEVENT
BEGIN:VEVENT
DTSTART;TZID=UTC:20260312T160000
DTEND;TZID=UTC:20260312T173000
DTSTAMP:20260420T064442
CREATED:20260227T153826Z
LAST-MODIFIED:20260227T153826Z
UID:4909-1773331200-1773336600@alfredboxofbookslibrary.org
SUMMARY:Bedazzled Book Covers
DESCRIPTION:Decorate your favorite book cover (or grab one of the ones provided by the library)\, and create your own sparkly artwork.  Using diamond painting tools and supplies\, dot your cover for a bedazzled look!
URL:https://alfredboxofbookslibrary.org/event/bedazzled-book-covers/
LOCATION:Alfred Box of Books Library\, 1 West University Street\, Alfred\, NY\, 14802-1113\, United States
CATEGORIES:Adult Programs,Teen Program
ORGANIZER;CN="Alfred Box of Books Library":MAILTO:alfred@stls.org
END:VEVENT
BEGIN:VEVENT
DTSTART;TZID=UTC:20260318T180000
DTEND;TZID=UTC:20260318T200000
DTSTAMP:20260420T064442
CREATED:20260114T222001Z
LAST-MODIFIED:20260114T222001Z
UID:4974-1773856800-1773864000@alfredboxofbookslibrary.org
SUMMARY:Adult Dungeons & Dragons
DESCRIPTION:Come play D&D at the Library! Everyone is welcome\, whether you’re an experienced player or completely new to the game! Dice\, character sheets\, and characters are available for anyone who needs them. \nThis event is 18+ only. If you are or know a teenager interested in playing D&D at the library\, please reach out and let us know! \nIf you are interested in learning more about the club\, please contact Caleb Fesmire at fesmirec@stls.org.
URL:https://alfredboxofbookslibrary.org/event/adult-dungeons-dragons-13/
LOCATION:Alfred Box of Books Library\, 1 West University Street\, Alfred\, NY\, 14802-1113\, United States
CATEGORIES:Adult Programs
ORGANIZER;CN="Alfred Box of Books Library":MAILTO:alfred@stls.org
END:VEVENT
BEGIN:VEVENT
DTSTART;TZID=UTC:20260401T180000
DTEND;TZID=UTC:20260401T200000
DTSTAMP:20260420T064442
CREATED:20260227T160433Z
LAST-MODIFIED:20260227T160433Z
UID:5020-1775066400-1775073600@alfredboxofbookslibrary.org
SUMMARY:Adult Dungeons & Dragons
DESCRIPTION:Come play D&D at the Library! Everyone is welcome\, whether you’re an experienced player or completely new to the game! Dice\, character sheets\, and characters are available for anyone who needs them. \nThis event is 18+ only. If you are or know a teenager interested in playing D&D at the library\, please reach out and let us know! \nIf you are interested in learning more about the club\, please contact Caleb Fesmire at fesmirec@stls.org.
URL:https://alfredboxofbookslibrary.org/event/adult-dungeons-dragons-14/
LOCATION:Alfred Box of Books Library\, 1 West University Street\, Alfred\, NY\, 14802-1113\, United States
CATEGORIES:Adult Programs
ORGANIZER;CN="Alfred Box of Books Library":MAILTO:alfred@stls.org
END:VEVENT
BEGIN:VEVENT
DTSTART;TZID=UTC:20260408T160000
DTEND;TZID=UTC:20260408T180000
DTSTAMP:20260420T064443
CREATED:20260323T143026Z
LAST-MODIFIED:20260323T143144Z
UID:5040-1775664000-1775671200@alfredboxofbookslibrary.org
SUMMARY:Library Love Mini Library
DESCRIPTION:Celebrate National Library Week! Teens and adults are invited to join us to create their own miniature library.  Using an Altoid style tin\, build your dream library in miniature.  All materials provided.
URL:https://alfredboxofbookslibrary.org/event/library-love-mini-library/
LOCATION:Alfred Box of Books Library\, 1 West University Street\, Alfred\, NY\, 14802-1113\, United States
CATEGORIES:Adult Programs,Teen Program
ORGANIZER;CN="Alfred Box of Books Library":MAILTO:alfred@stls.org
END:VEVENT
BEGIN:VEVENT
DTSTART;TZID=UTC:20260422T180000
DTEND;TZID=UTC:20260422T200000
DTSTAMP:20260420T064443
CREATED:20260227T160622Z
LAST-MODIFIED:20260319T165747Z
UID:5023-1776880800-1776888000@alfredboxofbookslibrary.org
SUMMARY:Adult Dungeons & Dragons
DESCRIPTION:Come play D&D at the Library! Everyone is welcome\, whether you’re an experienced player or completely new to the game! Dice\, character sheets\, and characters are available for anyone who needs them. \nThis event is 18+ only. If you are or know a teenager interested in playing D&D at the library\, please reach out and let us know! \nIf you are interested in learning more about the club\, please contact Caleb Fesmire at fesmirec@stls.org.
URL:https://alfredboxofbookslibrary.org/event/adult-dungeons-dragons-15/
LOCATION:Alfred Box of Books Library\, 1 West University Street\, Alfred\, NY\, 14802-1113\, United States
CATEGORIES:Adult Programs
ORGANIZER;CN="Alfred Box of Books Library":MAILTO:alfred@stls.org
END:VEVENT
BEGIN:VEVENT
DTSTART;TZID=UTC:20260501T160000
DTEND;TZID=UTC:20260501T180000
DTSTAMP:20260420T064443
CREATED:20260323T151257Z
LAST-MODIFIED:20260323T151257Z
UID:5056-1777651200-1777658400@alfredboxofbookslibrary.org
SUMMARY:Sashiko with Carlyn Yanda
DESCRIPTION:Learn the Japanese embroidery technique\, sashiko.  Using white cotton threat to create geometric patterns\, sashiko is a great way to embellish your clothing or to visibily mend clothing\, giving it beautiful texure and contrast. \nLocal artist\, Carlyn Yanda will lead this workshop. All materials will be provided. Registration for this program is required and class size is limited. \n 
URL:https://alfredboxofbookslibrary.org/event/sashiko-with-carlyn-yanda/
LOCATION:Alfred Box of Books Library\, 1 West University Street\, Alfred\, NY\, 14802-1113\, United States
CATEGORIES:Adult Programs,Teen Program
ORGANIZER;CN="Alfred Box of Books Library":MAILTO:alfred@stls.org
END:VEVENT
BEGIN:VEVENT
DTSTART;TZID=UTC:20260506T180000
DTEND;TZID=UTC:20260506T200000
DTSTAMP:20260420T064443
CREATED:20260227T160727Z
LAST-MODIFIED:20260319T165901Z
UID:5025-1778090400-1778097600@alfredboxofbookslibrary.org
SUMMARY:Adult Dungeons & Dragons
DESCRIPTION:Come play D&D at the Library! Everyone is welcome\, whether you’re an experienced player or completely new to the game! Dice\, character sheets\, and characters are available for anyone who needs them. \nThis event is 18+ only. If you are or know a teenager interested in playing D&D at the library\, please reach out and let us know! \nIf you are interested in learning more about the club\, please contact Caleb Fesmire at fesmirec@stls.org.
URL:https://alfredboxofbookslibrary.org/event/adult-dungeons-dragons-16/
LOCATION:Alfred Box of Books Library\, 1 West University Street\, Alfred\, NY\, 14802-1113\, United States
CATEGORIES:Adult Programs
ORGANIZER;CN="Alfred Box of Books Library":MAILTO:alfred@stls.org
END:VEVENT
BEGIN:VEVENT
DTSTART;TZID=UTC:20260513T160000
DTEND;TZID=UTC:20260513T180000
DTSTAMP:20260420T064443
CREATED:20260323T153643Z
LAST-MODIFIED:20260323T153643Z
UID:5070-1778688000-1778695200@alfredboxofbookslibrary.org
SUMMARY:Block Print Tote Bag
DESCRIPTION:Customize your own tote bag with block printing. Create your own linocut block or use one of our pre-made blocks to print on a canvas tote bag. \nThis program is for teens and adults. Registration is preferred! Please call 607-587-9290 or email alfred@stls.org.
URL:https://alfredboxofbookslibrary.org/event/block-print-tote-bag/
LOCATION:Alfred Box of Books Library\, 1 West University Street\, Alfred\, NY\, 14802-1113\, United States
CATEGORIES:Adult Programs,Teen Program
ORGANIZER;CN="Alfred Box of Books Library":MAILTO:alfred@stls.org
END:VEVENT
BEGIN:VEVENT
DTSTART;TZID=UTC:20260520T180000
DTEND;TZID=UTC:20260520T200000
DTSTAMP:20260420T064443
CREATED:20260319T170021Z
LAST-MODIFIED:20260319T170021Z
UID:5030-1779300000-1779307200@alfredboxofbookslibrary.org
SUMMARY:Adult Dungeons & Dragons
DESCRIPTION:Come play D&D at the Library! Everyone is welcome\, whether you’re an experienced player or completely new to the game! Dice\, character sheets\, and characters are available for anyone who needs them. \nThis event is 18+ only. If you are or know a teenager interested in playing D&D at the library\, please reach out and let us know! \nIf you are interested in learning more about the club\, please contact Caleb Fesmire at fesmirec@stls.org.
URL:https://alfredboxofbookslibrary.org/event/adult-dungeons-dragons-17/
LOCATION:Alfred Box of Books Library\, 1 West University Street\, Alfred\, NY\, 14802-1113\, United States
CATEGORIES:Adult Programs
ORGANIZER;CN="Alfred Box of Books Library":MAILTO:alfred@stls.org
END:VEVENT
BEGIN:VEVENT
DTSTART;TZID=UTC:20260612T170000
DTEND;TZID=UTC:20260612T190000
DTSTAMP:20260420T064443
CREATED:20260323T152445Z
LAST-MODIFIED:20260323T152445Z
UID:5068-1781283600-1781290800@alfredboxofbookslibrary.org
SUMMARY:Book Binding Class
DESCRIPTION:Local artist\, Kate Elliott will lead a workshop in book binding. Learn techniques to create your own bound book. \nRefreshments provided. \nRegistration for this program is required. Please contact the library at 607-587-9290 or email alfred@stls.org.
URL:https://alfredboxofbookslibrary.org/event/book-binding-class/
LOCATION:Alfred Box of Books Library\, 1 West University Street\, Alfred\, NY\, 14802-1113\, United States
CATEGORIES:Adult Programs
ORGANIZER;CN="Alfred Box of Books Library":MAILTO:alfred@stls.org
END:VEVENT
END:VCALENDAR