BEGIN:VCALENDAR
VERSION:2.0
PRODID:-//Alfred Box of Books Library - ECPv6.15.20//NONSGML v1.0//EN
CALSCALE:GREGORIAN
METHOD:PUBLISH
X-ORIGINAL-URL:https://alfredboxofbookslibrary.org
X-WR-CALDESC:Events for Alfred Box of Books Library
REFRESH-INTERVAL;VALUE=DURATION:PT1H
X-Robots-Tag:noindex
X-PUBLISHED-TTL:PT1H
BEGIN:VTIMEZONE
TZID:UTC
BEGIN:STANDARD
TZOFFSETFROM:+0000
TZOFFSETTO:+0000
TZNAME:UTC
DTSTART:20230101T000000
END:STANDARD
END:VTIMEZONE
BEGIN:VEVENT
DTSTART;TZID=UTC:20250116T180000
DTEND;TZID=UTC:20250116T200000
DTSTAMP:20260420T194134
CREATED:20241126T163131Z
LAST-MODIFIED:20241126T163131Z
UID:4026-1737050400-1737057600@alfredboxofbookslibrary.org
SUMMARY:Adult Dungeons & Dragons Club
DESCRIPTION:D&D Club meets every other Thursday night. If you like role playing games\, contact our Circulation and Program Assistant\, Caleb Fesmire at fesmirec@stls.org. \nAll experience levels welcome!
URL:https://alfredboxofbookslibrary.org/event/adult-dungeons-dragons-club/
LOCATION:Alfred Box of Books Library\, 1 West University Street\, Alfred\, NY\, 14802-1113\, United States
CATEGORIES:Adult Programs
ORGANIZER;CN="Alfred Box of Books Library":MAILTO:alfred@stls.org
END:VEVENT
BEGIN:VEVENT
DTSTART;TZID=UTC:20250115T160000
DTEND;TZID=UTC:20250115T170000
DTSTAMP:20260420T194134
CREATED:20241126T160137Z
LAST-MODIFIED:20241126T160137Z
UID:4002-1736956800-1736960400@alfredboxofbookslibrary.org
SUMMARY:Understanding AI
DESCRIPTION:Artificial Intelligence (AI) is a hot topic\, leaving many of us with questions.  Learn about what AI is\, how to use it\, and what it means for you.  Join us for an informational session with Alfred University’s Information Literacy Librarian\, Kevin Adams and demystify AI.
URL:https://alfredboxofbookslibrary.org/event/understanding-ai/
LOCATION:Alfred Box of Books Library\, 1 West University Street\, Alfred\, NY\, 14802-1113\, United States
CATEGORIES:Adult Programs
ORGANIZER;CN="Alfred Box of Books Library":MAILTO:alfred@stls.org
END:VEVENT
BEGIN:VEVENT
DTSTART;TZID=UTC:20250109T130000
DTEND;TZID=UTC:20250109T140000
DTSTAMP:20260420T194134
CREATED:20250106T163346Z
LAST-MODIFIED:20250106T171132Z
UID:4064-1736427600-1736431200@alfredboxofbookslibrary.org
SUMMARY:Master Gardener Talk: The Artist Recreates the Garden
DESCRIPTION:Join us for a talk by Mary Lu Wells as she shared artworks inspired by gardens. She will share images of over 15 works of art spanning several cultures and over 2\,500 years of history depicting the garden in all its glory. Works shared will include paintings\, wood\, silk\, and glass.
URL:https://alfredboxofbookslibrary.org/event/master-gardener-talk-the-artist-recreates-the-garden/
LOCATION:Alfred Box of Books Library\, 1 West University Street\, Alfred\, NY\, 14802-1113\, United States
CATEGORIES:Adult Programs
ORGANIZER;CN="Alfred Box of Books Library":MAILTO:alfred@stls.org
END:VEVENT
BEGIN:VEVENT
DTSTART;TZID=UTC:20250107T170000
DTEND;TZID=UTC:20250107T180000
DTSTAMP:20260420T194134
CREATED:20241126T162224Z
LAST-MODIFIED:20241126T162224Z
UID:4020-1736269200-1736272800@alfredboxofbookslibrary.org
SUMMARY:True Crime Book Club
DESCRIPTION:If you’re a fan of true crime\, join us for book club! The first Tuesday of the month\, we discuss a new true crime book.  If you’re interested in joining\, email alfred@stls.org.
URL:https://alfredboxofbookslibrary.org/event/true-crime-book-club-26/
LOCATION:Alfred Box of Books Library\, 1 West University Street\, Alfred\, NY\, 14802-1113\, United States
CATEGORIES:Adult Programs
ORGANIZER;CN="Alfred Box of Books Library":MAILTO:alfred@stls.org
END:VEVENT
BEGIN:VEVENT
DTSTART;TZID=UTC:20250102T180000
DTEND;TZID=UTC:20250102T200000
DTSTAMP:20260420T194134
CREATED:20241126T162749Z
LAST-MODIFIED:20241126T162749Z
UID:4024-1735840800-1735848000@alfredboxofbookslibrary.org
SUMMARY:Adult Dungeons and Dragons Club
DESCRIPTION:D&D Club meets every other Thursday night. If you love role playing games and are interested in joining\, email Caleb Fesmire at fesmirec@stls.org. \nAll materials including characters are provided.  All experience levels welcome.
URL:https://alfredboxofbookslibrary.org/event/adult-dungeons-and-dragons-club/
LOCATION:Alfred Box of Books Library\, 1 West University Street\, Alfred\, NY\, 14802-1113\, United States
CATEGORIES:Adult Programs
ORGANIZER;CN="Alfred Box of Books Library":MAILTO:alfred@stls.org
END:VEVENT
BEGIN:VEVENT
DTSTART;TZID=UTC:20241217T140000
DTEND;TZID=UTC:20241217T160000
DTSTAMP:20260420T194134
CREATED:20241029T130153Z
LAST-MODIFIED:20241029T130153Z
UID:3976-1734444000-1734451200@alfredboxofbookslibrary.org
SUMMARY:Chinese Mah Jongg
DESCRIPTION:Come to the library and play Chinese Mah Jongg Tuesday afternoons. Beginners welcome!
URL:https://alfredboxofbookslibrary.org/event/chinese-mah-jongg-14/
LOCATION:Alfred Box of Books Library\, 1 West University Street\, Alfred\, NY\, 14802-1113\, United States
CATEGORIES:Adult Programs
ORGANIZER;CN="Alfred Box of Books Library":MAILTO:alfred@stls.org
END:VEVENT
BEGIN:VEVENT
DTSTART;TZID=UTC:20241210T140000
DTEND;TZID=UTC:20241210T160000
DTSTAMP:20260420T194134
CREATED:20241029T130052Z
LAST-MODIFIED:20241029T130052Z
UID:3974-1733839200-1733846400@alfredboxofbookslibrary.org
SUMMARY:Chinese Mah Jongg
DESCRIPTION:Play Chinese Mah Jongg every Tuesday afternoon.  Beginners welcome!
URL:https://alfredboxofbookslibrary.org/event/chinese-mah-jongg-13/
LOCATION:Alfred Box of Books Library\, 1 West University Street\, Alfred\, NY\, 14802-1113\, United States
CATEGORIES:Adult Programs
ORGANIZER;CN="Alfred Box of Books Library":MAILTO:alfred@stls.org
END:VEVENT
BEGIN:VEVENT
DTSTART;TZID=UTC:20241207T100000
DTEND;TZID=UTC:20241207T150000
DTSTAMP:20260420T194134
CREATED:20241022T171105Z
LAST-MODIFIED:20241022T171229Z
UID:3911-1733565600-1733583600@alfredboxofbookslibrary.org
SUMMARY:Wreath Fundraiser and House Tour
DESCRIPTION:The purchase of a ticket provides you with a 24″ Douglas Fir wreath made by East Wind Nursery and decorations.  This year\, your ticket also provides a tour of Alfred’s Christmas House! \nLike last year\, you can choose to attend our wreath decorating event and decorate your wreath with us.  Or request a grab-and-go kit and take your wreath home to decorate.  The library will provide a variety of bows\, ribbon\, colorful balls\, pinecones\, snowflakes. \nWreath Decorating and Pick Up: 10:00am-1:00pm at the Union University Church Center \nHouse Tour: 12:00pm-3:00pm at 56 West University Street. Children are welcome accompanied by an adult.  \nRefreshments will be provided at both locations. \nTickets are $40 each and can be purchased at the library or through any library board member. \nTickets will be available only until Thursday\, November 21. \nHave questions? Call us at 607-587-9290! \n 
URL:https://alfredboxofbookslibrary.org/event/wreath-fundraiser-and-house-tour/
LOCATION:Union University Church Center\, 29 N. Main Street\, Alfred\, NY\, 14802\, United States
CATEGORIES:Adult Programs,General Audience
ORGANIZER;CN="Alfred Box of Books Library":MAILTO:alfred@stls.org
END:VEVENT
BEGIN:VEVENT
DTSTART;TZID=UTC:20241203T140000
DTEND;TZID=UTC:20241203T153000
DTSTAMP:20260420T194134
CREATED:20241029T130003Z
LAST-MODIFIED:20241029T130003Z
UID:3972-1733234400-1733239800@alfredboxofbookslibrary.org
SUMMARY:Chinese Mah Jongg
DESCRIPTION:Join us every Tuesday afternoon for the Chinese version of Mah Jongg. All experience levels welcome.
URL:https://alfredboxofbookslibrary.org/event/chinese-mah-jongg-12/
LOCATION:Alfred Box of Books Library\, 1 West University Street\, Alfred\, NY\, 14802-1113\, United States
CATEGORIES:Adult Programs
ORGANIZER;CN="Alfred Box of Books Library":MAILTO:alfred@stls.org
END:VEVENT
BEGIN:VEVENT
DTSTART;TZID=UTC:20241126T140000
DTEND;TZID=UTC:20241126T160000
DTSTAMP:20260420T194134
CREATED:20241029T125908Z
LAST-MODIFIED:20241029T125908Z
UID:3970-1732629600-1732636800@alfredboxofbookslibrary.org
SUMMARY:Chinese Mah Jongg
DESCRIPTION:Tuesday afternoons\, join in for the Chinese version of Mah Jongg. All experience levels welcome!
URL:https://alfredboxofbookslibrary.org/event/chinese-mah-jongg-11/
LOCATION:Alfred Box of Books Library\, 1 West University Street\, Alfred\, NY\, 14802-1113\, United States
CATEGORIES:Adult Programs
ORGANIZER;CN="Alfred Box of Books Library":MAILTO:alfred@stls.org
END:VEVENT
BEGIN:VEVENT
DTSTART;TZID=UTC:20241119T140000
DTEND;TZID=UTC:20241119T140000
DTSTAMP:20260420T194134
CREATED:20240819T154909Z
LAST-MODIFIED:20240827T180340Z
UID:3827-1732024800-1732024800@alfredboxofbookslibrary.org
SUMMARY:Chinese Mah Jongg
DESCRIPTION:Join us every Tuesday for Chinese  Mah Jongg.  All skill levels welcome!
URL:https://alfredboxofbookslibrary.org/event/chinese-mah-jongg-10/
LOCATION:NY
CATEGORIES:Adult Programs
END:VEVENT
BEGIN:VEVENT
DTSTART;TZID=UTC:20241112T140000
DTEND;TZID=UTC:20241112T140000
DTSTAMP:20260420T194134
CREATED:20240819T154909Z
LAST-MODIFIED:20240827T180401Z
UID:3826-1731420000-1731420000@alfredboxofbookslibrary.org
SUMMARY:Chinese Mah Jongg
DESCRIPTION:Join us every Tuesday for Chinese  Mah Jongg.  All skill levels welcome!
URL:https://alfredboxofbookslibrary.org/event/chinese-mah-jongg-9/
LOCATION:NY
CATEGORIES:Adult Programs
END:VEVENT
BEGIN:VEVENT
DTSTART;TZID=UTC:20241106T160000
DTEND;TZID=UTC:20241106T170000
DTSTAMP:20260420T194134
CREATED:20241011T212819Z
LAST-MODIFIED:20241011T212819Z
UID:3902-1730908800-1730912400@alfredboxofbookslibrary.org
SUMMARY:Needle Felting with Robin Kellogg
DESCRIPTION:Robin Kellogg of Kellogg’s Alpacas will lead a workshop on needle felting. You can view Robin’s work and learn more about the alpaca farm at https://www.kelloggsalpacas.com/. \nTo register for this program\, please call or email the library at 607-587-9290 or alfred@stls.org.
URL:https://alfredboxofbookslibrary.org/event/needle-felting-with-robin-kellogg/
LOCATION:Alfred Box of Books Library\, 1 West University Street\, Alfred\, NY\, 14802-1113\, United States
CATEGORIES:Adult Programs
ORGANIZER;CN="Alfred Box of Books Library":MAILTO:alfred@stls.org
END:VEVENT
BEGIN:VEVENT
DTSTART;TZID=UTC:20241105T140000
DTEND;TZID=UTC:20241105T140000
DTSTAMP:20260420T194134
CREATED:20240819T154909Z
LAST-MODIFIED:20240827T180419Z
UID:3825-1730815200-1730815200@alfredboxofbookslibrary.org
SUMMARY:Chinese Mah Jongg
DESCRIPTION:Join us every Tuesday for Chinese  Mah Jongg.  All skill levels welcome!
URL:https://alfredboxofbookslibrary.org/event/chinese-mah-jongg-8/
LOCATION:NY
CATEGORIES:Adult Programs
END:VEVENT
BEGIN:VEVENT
DTSTART;TZID=UTC:20241029T140000
DTEND;TZID=UTC:20241029T140000
DTSTAMP:20260420T194134
CREATED:20240819T154909Z
LAST-MODIFIED:20240827T180435Z
UID:3824-1730210400-1730210400@alfredboxofbookslibrary.org
SUMMARY:Chinese Mah Jongg
DESCRIPTION:Join us every Tuesday for Chinese  Mah Jongg.  All skill levels welcome!
URL:https://alfredboxofbookslibrary.org/event/chinese-mah-jongg-7/
LOCATION:NY
CATEGORIES:Adult Programs
END:VEVENT
BEGIN:VEVENT
DTSTART;TZID=UTC:20241028T140000
DTEND;TZID=UTC:20241028T170000
DTSTAMP:20260420T194134
CREATED:20240808T145652Z
LAST-MODIFIED:20240808T145652Z
UID:3791-1730124000-1730134800@alfredboxofbookslibrary.org
SUMMARY:Visit with Author Deana David
DESCRIPTION:Deana David of Ribbon Candy Hooking will visit the library and share her presentation\, “Frost and Frost: A Textile Artist’s Journey Of Seasonal Inspiration and Technique.”  Click here to register! Or call the library at 607-587-9290. \n\n\n\n\n\n\n\n\nWelcome to a perfectly spiced seasonal blending of two iconic Frosts: Edward Sands Frost and Robert Frost. \nEdward Sands Frost was the resourceful 19th century tin peddler who saw that women were struggling with the designing part of their hooked rugs and decided to start making stencils to help them lay out compositions and make more successful\, impressive rugs that were not just functional but pleasing to look at.\nRobert Frost\, poet laureate of Vermont\, is still one of the best-loved poets of all time. His eternally moving poems like ‘The Road Not Taken’\, ‘After Apple Picking’\, ‘November Guest’\, and ‘Stopping by the Woods on a Snowy Evening’ are just a few of his haunting and evocative works.\nIn class we will use stencils to work out compositions to illustrate a handful of Autumn poems. We will work in the style of Edward Sands Frost to create rug compositions that illustrate Robert Frost. You will learn more about composition\, hear Robert Frost read many of his own poems\, and come away with sketches that will make wonderful designs for your future projects.
URL:https://alfredboxofbookslibrary.org/event/visit-with-author-deana-david/
LOCATION:Alfred Box of Books Library\, 1 West University Street\, Alfred\, NY\, 14802-1113\, United States
CATEGORIES:Adult Programs
ORGANIZER;CN="Alfred Box of Books Library":MAILTO:alfred@stls.org
END:VEVENT
BEGIN:VEVENT
DTSTART;TZID=UTC:20241028T110000
DTEND;TZID=UTC:20241028T110000
DTSTAMP:20260420T194134
CREATED:20240819T154238Z
LAST-MODIFIED:20240827T180458Z
UID:3810-1730113200-1730113200@alfredboxofbookslibrary.org
SUMMARY:American Mah Jongg
DESCRIPTION:Join us Mondays for American Mah Jongg.  All skill levels welcome!
URL:https://alfredboxofbookslibrary.org/event/american-mah-jongg-10/
LOCATION:NY
CATEGORIES:Adult Programs
END:VEVENT
BEGIN:VEVENT
DTSTART;TZID=UTC:20241022T140000
DTEND;TZID=UTC:20241022T140000
DTSTAMP:20260420T194134
CREATED:20240819T154909Z
LAST-MODIFIED:20240827T180555Z
UID:3823-1729605600-1729605600@alfredboxofbookslibrary.org
SUMMARY:Chinese Mah Jongg
DESCRIPTION:Join us every Tuesday for Chinese  Mah Jongg.  All skill levels welcome!
URL:https://alfredboxofbookslibrary.org/event/chinese-mah-jongg-6/
LOCATION:NY
CATEGORIES:Adult Programs
END:VEVENT
BEGIN:VEVENT
DTSTART;TZID=UTC:20241021T110000
DTEND;TZID=UTC:20241021T110000
DTSTAMP:20260420T194134
CREATED:20240819T154238Z
LAST-MODIFIED:20240827T180616Z
UID:3809-1729508400-1729508400@alfredboxofbookslibrary.org
SUMMARY:American Mah Jongg
DESCRIPTION:Join us Mondays for American Mah Jongg.  All skill levels welcome!
URL:https://alfredboxofbookslibrary.org/event/american-mah-jongg-9/
LOCATION:NY
CATEGORIES:Adult Programs
END:VEVENT
BEGIN:VEVENT
DTSTART;TZID=UTC:20241015T140000
DTEND;TZID=UTC:20241015T140000
DTSTAMP:20260420T194134
CREATED:20240819T154908Z
LAST-MODIFIED:20240827T180643Z
UID:3822-1729000800-1729000800@alfredboxofbookslibrary.org
SUMMARY:Chinese Mah Jongg
DESCRIPTION:Join us every Tuesday for Chinese  Mah Jongg.  All skill levels welcome!
URL:https://alfredboxofbookslibrary.org/event/chinese-mah-jongg-5/
LOCATION:NY
CATEGORIES:Adult Programs
END:VEVENT
BEGIN:VEVENT
DTSTART;TZID=UTC:20241011T180000
DTEND;TZID=UTC:20241011T200000
DTSTAMP:20260420T194134
CREATED:20240808T143657Z
LAST-MODIFIED:20240808T143657Z
UID:3779-1728669600-1728676800@alfredboxofbookslibrary.org
SUMMARY:Macrame Keychain
DESCRIPTION:Learn how to create your own macrame keychain with B & E Creative.  Class size is limited\, so register today.   Click here to register! \nOr call the library at 607-587-9290 to secure your spot.  Class is free and all materials will be provided.
URL:https://alfredboxofbookslibrary.org/event/macrame-keychain/
LOCATION:Alfred Box of Books Library\, 1 West University Street\, Alfred\, NY\, 14802-1113\, United States
CATEGORIES:Adult Programs,Teen Program
ORGANIZER;CN="Alfred Box of Books Library":MAILTO:alfred@stls.org
END:VEVENT
BEGIN:VEVENT
DTSTART;TZID=UTC:20241008T140000
DTEND;TZID=UTC:20241008T140000
DTSTAMP:20260420T194134
CREATED:20240819T154908Z
LAST-MODIFIED:20240827T180809Z
UID:3821-1728396000-1728396000@alfredboxofbookslibrary.org
SUMMARY:Chinese Mah Jongg
DESCRIPTION:Join us every Tuesday for Chinese  Mah Jongg.  All skill levels welcome!
URL:https://alfredboxofbookslibrary.org/event/chinese-mah-jongg-4/
LOCATION:NY
CATEGORIES:Adult Programs
END:VEVENT
BEGIN:VEVENT
DTSTART;TZID=UTC:20241007T110000
DTEND;TZID=UTC:20241007T110000
DTSTAMP:20260420T194134
CREATED:20240819T154238Z
LAST-MODIFIED:20240827T180823Z
UID:3807-1728298800-1728298800@alfredboxofbookslibrary.org
SUMMARY:American Mah Jongg
DESCRIPTION:Join us Mondays for American Mah Jongg.  All skill levels welcome!
URL:https://alfredboxofbookslibrary.org/event/american-mah-jongg-7/
LOCATION:NY
CATEGORIES:Adult Programs
END:VEVENT
BEGIN:VEVENT
DTSTART;TZID=UTC:20241001T140000
DTEND;TZID=UTC:20241001T140000
DTSTAMP:20260420T194134
CREATED:20240819T154908Z
LAST-MODIFIED:20240827T180904Z
UID:3820-1727791200-1727791200@alfredboxofbookslibrary.org
SUMMARY:Chinese Mah Jongg
DESCRIPTION:Join us every Tuesday for Chinese  Mah Jongg.  All skill levels welcome!
URL:https://alfredboxofbookslibrary.org/event/chinese-mah-jongg-3/
LOCATION:NY
CATEGORIES:Adult Programs
END:VEVENT
BEGIN:VEVENT
DTSTART;TZID=UTC:20240930T110000
DTEND;TZID=UTC:20240930T110000
DTSTAMP:20260420T194134
CREATED:20240819T154238Z
LAST-MODIFIED:20240827T180917Z
UID:3806-1727694000-1727694000@alfredboxofbookslibrary.org
SUMMARY:American Mah Jongg
DESCRIPTION:Join us Mondays for American Mah Jongg.  All skill levels welcome!
URL:https://alfredboxofbookslibrary.org/event/american-mah-jongg-6/
LOCATION:NY
CATEGORIES:Adult Programs
END:VEVENT
BEGIN:VEVENT
DTSTART;TZID=UTC:20240925T160000
DTEND;TZID=UTC:20240925T170000
DTSTAMP:20260420T194134
CREATED:20240806T172652Z
LAST-MODIFIED:20240912T172301Z
UID:3768-1727280000-1727283600@alfredboxofbookslibrary.org
SUMMARY:Chair Yoga
DESCRIPTION:Heather Joyce will lead a 45 minute gentle session. These sessions are open to all ages and ability levels.  Chair yoga can be done seated or while using a chair for balance. Registration is required by contacting the library.
URL:https://alfredboxofbookslibrary.org/event/chair-yoga-7/
LOCATION:Alfred Box of Books Library\, 1 West University Street\, Alfred\, NY\, 14802-1113\, United States
CATEGORIES:Adult Programs
ORGANIZER;CN="Alfred Box of Books Library":MAILTO:alfred@stls.org
END:VEVENT
BEGIN:VEVENT
DTSTART;TZID=UTC:20240924T140000
DTEND;TZID=UTC:20240924T140000
DTSTAMP:20260420T194134
CREATED:20240819T154908Z
LAST-MODIFIED:20240827T180936Z
UID:3819-1727186400-1727186400@alfredboxofbookslibrary.org
SUMMARY:Chinese Mah Jongg
DESCRIPTION:Join us every Tuesday for Chinese  Mah Jongg.  All skill levels welcome!
URL:https://alfredboxofbookslibrary.org/event/chinese-mah-jongg-2/
LOCATION:NY
CATEGORIES:Adult Programs
END:VEVENT
BEGIN:VEVENT
DTSTART;TZID=UTC:20240923T110000
DTEND;TZID=UTC:20240923T110000
DTSTAMP:20260420T194134
CREATED:20240819T154237Z
LAST-MODIFIED:20240827T180949Z
UID:3805-1727089200-1727089200@alfredboxofbookslibrary.org
SUMMARY:American Mah Jongg
DESCRIPTION:Join us Mondays for American Mah Jongg.  All skill levels welcome!
URL:https://alfredboxofbookslibrary.org/event/american-mah-jongg-5/
LOCATION:NY
CATEGORIES:Adult Programs
END:VEVENT
BEGIN:VEVENT
DTSTART;TZID=UTC:20240918T160000
DTEND;TZID=UTC:20240918T170000
DTSTAMP:20260420T194134
CREATED:20240806T172555Z
LAST-MODIFIED:20240912T172237Z
UID:3766-1726675200-1726678800@alfredboxofbookslibrary.org
SUMMARY:Chair Yoga
DESCRIPTION:Heather Joyce will lead a 45 minute gentle session. These sessions are open to all ages and ability levels.  Chair yoga can be done seated or while using a chair for balance. Registration is required by contacting the library.
URL:https://alfredboxofbookslibrary.org/event/chair-yoga-6/
LOCATION:Alfred Box of Books Library\, 1 West University Street\, Alfred\, NY\, 14802-1113\, United States
CATEGORIES:Adult Programs
ORGANIZER;CN="Alfred Box of Books Library":MAILTO:alfred@stls.org
END:VEVENT
BEGIN:VEVENT
DTSTART;TZID=UTC:20240917T160000
DTEND;TZID=UTC:20240917T180000
DTSTAMP:20260420T194134
CREATED:20240806T171527Z
LAST-MODIFIED:20240808T144108Z
UID:3762-1726588800-1726596000@alfredboxofbookslibrary.org
SUMMARY:Paper Quilling
DESCRIPTION:Erica Unterman will lead a workshop on the craft of paper quilling.  Paper quilling is an art form that involves tightly rolling and curling strips of paper to create shapes and designs. This program is best suited for ages 12+.  Click here to register! Or call the library at 607-587-9290 to register today. \n 
URL:https://alfredboxofbookslibrary.org/event/paper-quilling/
LOCATION:Alfred Box of Books Library\, 1 West University Street\, Alfred\, NY\, 14802-1113\, United States
CATEGORIES:Adult Programs,Teen Program
ORGANIZER;CN="Alfred Box of Books Library":MAILTO:alfred@stls.org
END:VEVENT
END:VCALENDAR