BEGIN:VCALENDAR
VERSION:2.0
PRODID:-//Alfred Box of Books Library - ECPv6.15.20//NONSGML v1.0//EN
CALSCALE:GREGORIAN
METHOD:PUBLISH
X-ORIGINAL-URL:https://alfredboxofbookslibrary.org
X-WR-CALDESC:Events for Alfred Box of Books Library
REFRESH-INTERVAL;VALUE=DURATION:PT1H
X-Robots-Tag:noindex
X-PUBLISHED-TTL:PT1H
BEGIN:VTIMEZONE
TZID:UTC
BEGIN:STANDARD
TZOFFSETFROM:+0000
TZOFFSETTO:+0000
TZNAME:UTC
DTSTART:20250101T000000
END:STANDARD
END:VTIMEZONE
BEGIN:VEVENT
DTSTART;TZID=UTC:20260501T160000
DTEND;TZID=UTC:20260501T180000
DTSTAMP:20260420T055626
CREATED:20260323T151257Z
LAST-MODIFIED:20260323T151257Z
UID:5056-1777651200-1777658400@alfredboxofbookslibrary.org
SUMMARY:Sashiko with Carlyn Yanda
DESCRIPTION:Learn the Japanese embroidery technique\, sashiko.  Using white cotton threat to create geometric patterns\, sashiko is a great way to embellish your clothing or to visibily mend clothing\, giving it beautiful texure and contrast. \nLocal artist\, Carlyn Yanda will lead this workshop. All materials will be provided. Registration for this program is required and class size is limited. \n 
URL:https://alfredboxofbookslibrary.org/event/sashiko-with-carlyn-yanda/
LOCATION:Alfred Box of Books Library\, 1 West University Street\, Alfred\, NY\, 14802-1113\, United States
CATEGORIES:Adult Programs,Teen Program
ORGANIZER;CN="Alfred Box of Books Library":MAILTO:alfred@stls.org
END:VEVENT
BEGIN:VEVENT
DTSTART;TZID=UTC:20260513T160000
DTEND;TZID=UTC:20260513T180000
DTSTAMP:20260420T055626
CREATED:20260323T153643Z
LAST-MODIFIED:20260323T153643Z
UID:5070-1778688000-1778695200@alfredboxofbookslibrary.org
SUMMARY:Block Print Tote Bag
DESCRIPTION:Customize your own tote bag with block printing. Create your own linocut block or use one of our pre-made blocks to print on a canvas tote bag. \nThis program is for teens and adults. Registration is preferred! Please call 607-587-9290 or email alfred@stls.org.
URL:https://alfredboxofbookslibrary.org/event/block-print-tote-bag/
LOCATION:Alfred Box of Books Library\, 1 West University Street\, Alfred\, NY\, 14802-1113\, United States
CATEGORIES:Adult Programs,Teen Program
ORGANIZER;CN="Alfred Box of Books Library":MAILTO:alfred@stls.org
END:VEVENT
BEGIN:VEVENT
DTSTART;TZID=UTC:20260518T160000
DTEND;TZID=UTC:20260518T180000
DTSTAMP:20260420T055626
CREATED:20260323T151708Z
LAST-MODIFIED:20260323T151743Z
UID:5060-1779120000-1779127200@alfredboxofbookslibrary.org
SUMMARY:Homeschool Art Show
DESCRIPTION:Join us for an opening reception of local homeschool artists. See the beautiful artwork they have created. Refreshments provided. \nArtwork will remain on display through June 1. \n 
URL:https://alfredboxofbookslibrary.org/event/homeschool-art-show/
LOCATION:Alfred Box of Books Library\, 1 West University Street\, Alfred\, NY\, 14802-1113\, United States
CATEGORIES:Children's Program,Teen Program
ORGANIZER;CN="Alfred Box of Books Library":MAILTO:alfred@stls.org
END:VEVENT
END:VCALENDAR