BEGIN:VCALENDAR
VERSION:2.0
PRODID:-//Alfred Box of Books Library - ECPv6.15.20//NONSGML v1.0//EN
CALSCALE:GREGORIAN
METHOD:PUBLISH
X-WR-CALNAME:Alfred Box of Books Library
X-ORIGINAL-URL:https://alfredboxofbookslibrary.org
X-WR-CALDESC:Events for Alfred Box of Books Library
REFRESH-INTERVAL;VALUE=DURATION:PT1H
X-Robots-Tag:noindex
X-PUBLISHED-TTL:PT1H
BEGIN:VTIMEZONE
TZID:UTC
BEGIN:STANDARD
TZOFFSETFROM:+0000
TZOFFSETTO:+0000
TZNAME:UTC
DTSTART:20220101T000000
END:STANDARD
END:VTIMEZONE
BEGIN:VEVENT
DTSTART;VALUE=DATE:20230901
DTEND;VALUE=DATE:20230902
DTSTAMP:20260419T164119
CREATED:20230807T151510Z
LAST-MODIFIED:20230807T151510Z
UID:3008-1693526400-1693612799@alfredboxofbookslibrary.org
SUMMARY:Community Scarecrow Contest
DESCRIPTION:Decorate your own scarecrow to be displayed at the library.  (Posts for display will be provided). \nPrizes will be awarded for: \n\nBest business/organization\nbest character from a book or film\nMost traditional (most likely to scare a crow)\nBest whimsical or fantastical creation\n\nEntry forms due by 9/22 \nPlace your scarecrow on  the library lawn between 12pm-5pm September 27 through September 29. \nScarecrows will be on display until October 28th.
URL:https://alfredboxofbookslibrary.org/event/community-scarecrow-contest/
LOCATION:Alfred Box of Books Library\, 1 West University Street\, Alfred\, NY\, 14802-1113\, United States
ORGANIZER;CN="Alfred Box of Books Library":MAILTO:alfred@stls.org
END:VEVENT
BEGIN:VEVENT
DTSTART;VALUE=DATE:20230904
DTEND;VALUE=DATE:20230905
DTSTAMP:20260419T164119
CREATED:20230807T152557Z
LAST-MODIFIED:20230807T152557Z
UID:3014-1693785600-1693871999@alfredboxofbookslibrary.org
SUMMARY:Library Closed
DESCRIPTION:The library is closed today for Labor Day.
URL:https://alfredboxofbookslibrary.org/event/library-closed-22/
LOCATION:NY
END:VEVENT
BEGIN:VEVENT
DTSTART;TZID=UTC:20230905T170000
DTEND;TZID=UTC:20230905T180000
DTSTAMP:20260419T164119
CREATED:20230807T152721Z
LAST-MODIFIED:20230807T152721Z
UID:3016-1693933200-1693936800@alfredboxofbookslibrary.org
SUMMARY:True Crime Book Club
DESCRIPTION:The True Crime Book Club will meet at 5pm at Terra Cotta Coffeehouse.
URL:https://alfredboxofbookslibrary.org/event/true-crime-book-club-20/
LOCATION:Terra Cotta Coffee House\, Alfred
ORGANIZER;CN="Alfred Box of Books Library":MAILTO:alfred@stls.org
END:VEVENT
BEGIN:VEVENT
DTSTART;TZID=UTC:20230910T130000
DTEND;TZID=UTC:20230910T160000
DTSTAMP:20260419T164119
CREATED:20230807T145015Z
LAST-MODIFIED:20230807T145015Z
UID:2990-1694350800-1694361600@alfredboxofbookslibrary.org
SUMMARY:Visible Mending
DESCRIPTION:Kim Donius will lead a workshop in visible mending.  Using different techniques\, repair your clothing and add personalized character to them.  Participants can bring their own denim to work on\, but this is not required. \nTo register\, please call or email the library at: 607-587-9290 or alfred@stls.org.
URL:https://alfredboxofbookslibrary.org/event/visible-mending-2/
LOCATION:Alfred Box of Books Library\, 1 West University Street\, Alfred\, NY\, 14802-1113\, United States
ORGANIZER;CN="Alfred Box of Books Library":MAILTO:alfred@stls.org
END:VEVENT
BEGIN:VEVENT
DTSTART;TZID=UTC:20230911T113000
DTEND;TZID=UTC:20230911T113000
DTSTAMP:20260419T164119
CREATED:20230713T160425Z
LAST-MODIFIED:20230919T173555Z
UID:2910-1694431800-1694431800@alfredboxofbookslibrary.org
SUMMARY:Grow Your Own II
DESCRIPTION:Master Gardener Mary Lu Wells shares gardening tips\, tricks and more! Learn how to make the most of your garden with these workshops. There are multiple ways to participate: In-person at the library\, via Zoom\, or watch later on YouTube!
URL:https://alfredboxofbookslibrary.org/event/grow-your-own-ii-22/
LOCATION:NY
END:VEVENT
BEGIN:VEVENT
DTSTART;TZID=UTC:20230913T110000
DTEND;TZID=UTC:20230913T113000
DTSTAMP:20260419T164119
CREATED:20230919T181055Z
LAST-MODIFIED:20230920T132203Z
UID:3068-1694602800-1694604600@alfredboxofbookslibrary.org
SUMMARY:Storytime
DESCRIPTION:Join us for an apple themed storytime to celebrate fall. Books\, songs\, and activities! Best for ages 0-5
URL:https://alfredboxofbookslibrary.org/event/storytime-39/
LOCATION:NY
END:VEVENT
BEGIN:VEVENT
DTSTART;TZID=UTC:20230920T110000
DTEND;TZID=UTC:20230920T110000
DTSTAMP:20260419T164119
CREATED:20230919T181055Z
LAST-MODIFIED:20230919T181055Z
UID:3069-1695207600-1695207600@alfredboxofbookslibrary.org
SUMMARY:Storytime
DESCRIPTION:Join us for an apple themed storytime to celebrate fall.  Books\, songs\, and activities!  Best for ages 0-5
URL:https://alfredboxofbookslibrary.org/event/storytime-40/
LOCATION:NY
END:VEVENT
BEGIN:VEVENT
DTSTART;TZID=UTC:20230922T080000
DTEND;TZID=UTC:20230922T170000
DTSTAMP:20260419T164119
CREATED:20230807T151606Z
LAST-MODIFIED:20230807T151606Z
UID:3010-1695369600-1695402000@alfredboxofbookslibrary.org
SUMMARY:Community Scarecrow Contest| Entry Forms Due
DESCRIPTION:Entry forms for the community scarecrow contest are due today by 5pm.
URL:https://alfredboxofbookslibrary.org/event/community-scarecrow-contest-entry-forms-due/
LOCATION:Alfred Box of Books Library\, 1 West University Street\, Alfred\, NY\, 14802-1113\, United States
ORGANIZER;CN="Alfred Box of Books Library":MAILTO:alfred@stls.org
END:VEVENT
BEGIN:VEVENT
DTSTART;TZID=UTC:20230924T130000
DTEND;TZID=UTC:20230924T160000
DTSTAMP:20260419T164119
CREATED:20230807T145855Z
LAST-MODIFIED:20230807T145855Z
UID:2996-1695560400-1695571200@alfredboxofbookslibrary.org
SUMMARY:Guided Autumnal Mushroom Foray
DESCRIPTION:Adventure through the autumn woods in search of edible mushrooms with guides Sam Warren and Brandon Miller. Try chicken of the woods pizza! \nRegistration is required as space is limited. Please call or email: 607-587-9290 or alfred@stls.org. \nRegistration closes on September 15.
URL:https://alfredboxofbookslibrary.org/event/guided-autumnal-mushroom-foray/
LOCATION:Alfred Box of Books Library\, 1 West University Street\, Alfred\, NY\, 14802-1113\, United States
ORGANIZER;CN="Alfred Box of Books Library":MAILTO:alfred@stls.org
END:VEVENT
BEGIN:VEVENT
DTSTART;TZID=UTC:20230925T113000
DTEND;TZID=UTC:20230925T113000
DTSTAMP:20260419T164119
CREATED:20230713T160429Z
LAST-MODIFIED:20230919T173707Z
UID:2911-1695641400-1695641400@alfredboxofbookslibrary.org
SUMMARY:Grow Your Own II
DESCRIPTION:Master Gardener Mary Lu Wells shares gardening tips\, tricks and more! Learn how to make the most of your garden with these workshops. There are multiple ways to participate: In-person at the library\, via Zoom\, or watch later on YouTube!
URL:https://alfredboxofbookslibrary.org/event/grow-your-own-ii-23/
LOCATION:NY
END:VEVENT
BEGIN:VEVENT
DTSTART;TZID=UTC:20230927T110000
DTEND;TZID=UTC:20230927T110000
DTSTAMP:20260419T164119
CREATED:20230919T181055Z
LAST-MODIFIED:20230919T181055Z
UID:3070-1695812400-1695812400@alfredboxofbookslibrary.org
SUMMARY:No Storytime This Week
DESCRIPTION:No Storytime this week!
URL:https://alfredboxofbookslibrary.org/event/no-storytime-this-week/
LOCATION:NY
END:VEVENT
END:VCALENDAR