BEGIN:VCALENDAR
VERSION:2.0
PRODID:-//Alfred Box of Books Library - ECPv6.15.20//NONSGML v1.0//EN
CALSCALE:GREGORIAN
METHOD:PUBLISH
X-WR-CALNAME:Alfred Box of Books Library
X-ORIGINAL-URL:https://alfredboxofbookslibrary.org
X-WR-CALDESC:Events for Alfred Box of Books Library
REFRESH-INTERVAL;VALUE=DURATION:PT1H
X-Robots-Tag:noindex
X-PUBLISHED-TTL:PT1H
BEGIN:VTIMEZONE
TZID:UTC
BEGIN:STANDARD
TZOFFSETFROM:+0000
TZOFFSETTO:+0000
TZNAME:UTC
DTSTART:20220101T000000
END:STANDARD
END:VTIMEZONE
BEGIN:VEVENT
DTSTART;TZID=UTC:20231001T140000
DTEND;TZID=UTC:20231001T160000
DTSTAMP:20260419T182906
CREATED:20230807T145201Z
LAST-MODIFIED:20230807T145201Z
UID:2992-1696168800-1696176000@alfredboxofbookslibrary.org
SUMMARY:DIY Silly Eyes Decoration
DESCRIPTION:Make your own silly eyes to decorate your house or lawn for spooky season! \nRegister today! 607-587-9290 or email alfred@stls.org.
URL:https://alfredboxofbookslibrary.org/event/diy-silly-eyes-decoration/
LOCATION:Alfred Box of Books Library\, 1 West University Street\, Alfred\, NY\, 14802-1113\, United States
ORGANIZER;CN="Alfred Box of Books Library":MAILTO:alfred@stls.org
END:VEVENT
BEGIN:VEVENT
DTSTART;TZID=UTC:20231003T170000
DTEND;TZID=UTC:20231003T180000
DTSTAMP:20260419T182906
CREATED:20230807T152835Z
LAST-MODIFIED:20230807T152835Z
UID:3018-1696352400-1696356000@alfredboxofbookslibrary.org
SUMMARY:True Crime Book Club
DESCRIPTION:True Crime Book Club meets the first Tuesday of every month.  Join us for our latest book discussion at the Terra Cotta Coffee House.
URL:https://alfredboxofbookslibrary.org/event/true-crime-book-club-21/
LOCATION:Terra Cotta Coffee House\, Alfred
ORGANIZER;CN="Alfred Box of Books Library":MAILTO:alfred@stls.org
END:VEVENT
BEGIN:VEVENT
DTSTART;TZID=UTC:20231004T110000
DTEND;TZID=UTC:20231004T110000
DTSTAMP:20260419T182906
CREATED:20230919T181055Z
LAST-MODIFIED:20230919T181055Z
UID:3071-1696417200-1696417200@alfredboxofbookslibrary.org
SUMMARY:Storytime
DESCRIPTION:Join us for a farm themed storytime with books\, songs and activities! For ages 0-5.
URL:https://alfredboxofbookslibrary.org/event/storytime-41/
LOCATION:NY
END:VEVENT
BEGIN:VEVENT
DTSTART;VALUE=DATE:20231008
DTEND;VALUE=DATE:20231009
DTSTAMP:20260419T182906
CREATED:20230925T170252Z
LAST-MODIFIED:20230925T170252Z
UID:3095-1696723200-1696809599@alfredboxofbookslibrary.org
SUMMARY:Library Closed
DESCRIPTION:The library will be closed for regular library service today as we host a fiber workshop.  We apologize for the inconvenience.
URL:https://alfredboxofbookslibrary.org/event/library-closed-28/
LOCATION:Alfred Box of Books Library\, 1 West University Street\, Alfred\, NY\, 14802-1113\, United States
END:VEVENT
BEGIN:VEVENT
DTSTART;TZID=UTC:20231008T090000
DTEND;TZID=UTC:20231008T160000
DTSTAMP:20260419T182906
CREATED:20230807T150400Z
LAST-MODIFIED:20230807T150400Z
UID:2998-1696755600-1696780800@alfredboxofbookslibrary.org
SUMMARY:Fiber Arts w/ Joanne Staley
DESCRIPTION:Joanne Staley is a multidimensional fiber artist whose work has been exhibited at the Montgomery Museum of Fine Arts\, Air University Library\, Maxwell AFB\, and Columbia Seminary in Atlanta. Joanne has also served as the Artist in Residence for the Alabama State Council of the Arts. \nJoanne will lead a day long workshop and participants will create their own artwork using techniques taught by Joanne. \nMaterials and lunch will be provided. \nRegistration fee is $25 to cover the costs of supplies and lunch.  Scholarships are available. \nRegistration is required: call 607-587-9290 or email alfred@stls.org. \nThis workshop is funded in part by the Arts Council of Wyoming County
URL:https://alfredboxofbookslibrary.org/event/fiber-arts-w-joanne-staley/
LOCATION:Alfred Box of Books Library\, 1 West University Street\, Alfred\, NY\, 14802-1113\, United States
ORGANIZER;CN="Alfred Box of Books Library":MAILTO:alfred@stls.org
END:VEVENT
BEGIN:VEVENT
DTSTART;TZID=UTC:20231011T110000
DTEND;TZID=UTC:20231011T120000
DTSTAMP:20260419T182906
CREATED:20230807T150513Z
LAST-MODIFIED:20230807T150513Z
UID:3000-1697022000-1697025600@alfredboxofbookslibrary.org
SUMMARY:Day/Night Storytime
DESCRIPTION:Prepare for the upcoming solar eclipse with your little ones with this Day/Night themed storytime.
URL:https://alfredboxofbookslibrary.org/event/day-night-storytime/
LOCATION:Alfred Box of Books Library\, 1 West University Street\, Alfred\, NY\, 14802-1113\, United States
ORGANIZER;CN="Alfred Box of Books Library":MAILTO:alfred@stls.org
END:VEVENT
BEGIN:VEVENT
DTSTART;TZID=UTC:20231012T160000
DTEND;TZID=UTC:20231012T170000
DTSTAMP:20260419T182906
CREATED:20230807T150708Z
LAST-MODIFIED:20230807T150743Z
UID:3002-1697126400-1697130000@alfredboxofbookslibrary.org
SUMMARY:Eclipse 101
DESCRIPTION:Prepare for the upcoming solar eclipse by learning about eclipses. What is an eclipse? How often do they occur? Where can you see the eclipse? Why don’t we see eclipses every month? \nLearn all about eclipses in this hands-on program. \nEclipse glasses will be given to participants! \nRegister by calling or emailing the library: 607-587-9290 or alfred@stls.org.
URL:https://alfredboxofbookslibrary.org/event/eclipse-101/
LOCATION:Alfred Box of Books Library\, 1 West University Street\, Alfred\, NY\, 14802-1113\, United States
ORGANIZER;CN="Alfred Box of Books Library":MAILTO:alfred@stls.org
END:VEVENT
BEGIN:VEVENT
DTSTART;TZID=UTC:20231013T160000
DTEND;TZID=UTC:20231013T170000
DTSTAMP:20260419T182906
CREATED:20230807T150903Z
LAST-MODIFIED:20230807T150947Z
UID:3005-1697212800-1697216400@alfredboxofbookslibrary.org
SUMMARY:Eclipse Art
DESCRIPTION:Celebrate the eclipse with Eclipse Art!! We will learn about eclipse art throughout history\, as well as making our own.  If weather permits\, we will be outside for a portion of the program. \nParticipants will received eclipse glasses! \nRegister by calling or emailing the library: 607-587-9290 or alfred@stls.org.
URL:https://alfredboxofbookslibrary.org/event/eclipse-art/
LOCATION:Alfred Box of Books Library\, 1 West University Street\, Alfred\, NY\, 14802-1113\, United States
ORGANIZER;CN="Alfred Box of Books Library":MAILTO:alfred@stls.org
END:VEVENT
BEGIN:VEVENT
DTSTART;TZID=UTC:20231018T110000
DTEND;TZID=UTC:20231018T110000
DTSTAMP:20260419T182906
CREATED:20230919T181104Z
LAST-MODIFIED:20230919T181104Z
UID:3073-1697626800-1697626800@alfredboxofbookslibrary.org
SUMMARY:Storytime
DESCRIPTION:Join us for a fall-themed storytime with books\, songs\, and activities. For ages 0-5
URL:https://alfredboxofbookslibrary.org/event/storytime-43/
LOCATION:NY
END:VEVENT
BEGIN:VEVENT
DTSTART;TZID=UTC:20231021T120000
DTEND;TZID=UTC:20231021T200000
DTSTAMP:20260419T182906
CREATED:20230928T175246Z
LAST-MODIFIED:20231020T184800Z
UID:3107-1697889600-1697918400@alfredboxofbookslibrary.org
SUMMARY:Fiat Festi-Fall
DESCRIPTION:The library is excited to be partnering with Alfred University for Fiat Festi-Fall.  The events are moving indoors for weather! Events are scheduled to be in Powell Campus Center or Susan Howell Hall. Food trucks will be on the lawn between the two.  For parking\, please park at Jordan Hall. \n \nSeveral events are scheduled around town. \n12:00-6:00pm- Vendors and food trucks  (Hosted by AU)\n12:00-6:00pm- Photobooth at the Bandstand (Hosted by Box of Books)\n12:00-3:00pm- Pumpkin carving with Eric Jones\n12:00-3:00pm- Face painting (Hosted by Box of Books)\n2:00-4:00pm- Live music by Matt Burns (Hosted by AU)\n6:00pm- Drag Bingo (Hosted by AU)\n6:30-8:00pm- Glowing Orb Hunt at the Box of BOOks Haunted Library:\n6:30pm- children 5 and under\n7:00pm- children 6-9\n7:30pm- tweens 10-13.\n8:15pm- Fireworks best viewed from the Brick Lawn/ Fiat Lux sign.
URL:https://alfredboxofbookslibrary.org/event/fiat-festi-fall/
LOCATION:NY
END:VEVENT
BEGIN:VEVENT
DTSTART;TZID=UTC:20231022T120000
DTEND;TZID=UTC:20231022T160000
DTSTAMP:20260419T182906
CREATED:20230807T145438Z
LAST-MODIFIED:20230807T145438Z
UID:2994-1697976000-1697990400@alfredboxofbookslibrary.org
SUMMARY:Woven Indian Corn
DESCRIPTION:Join us for a workshop with The Basket Wiz\, Diane Wieziolowski.  Create your own autumn decor in this workshop.  All materials are provided. Registration is required to ensure supplies and space. 607-587-9290 or alfred@stls.org.
URL:https://alfredboxofbookslibrary.org/event/woven-indian-corn/
LOCATION:Alfred Box of Books Library\, 1 West University Street\, Alfred\, NY\, 14802-1113\, United States
ORGANIZER;CN="Alfred Box of Books Library":MAILTO:alfred@stls.org
END:VEVENT
BEGIN:VEVENT
DTSTART;TZID=UTC:20231025T110000
DTEND;TZID=UTC:20231025T110000
DTSTAMP:20260419T182906
CREATED:20230919T181104Z
LAST-MODIFIED:20230919T181104Z
UID:3074-1698231600-1698231600@alfredboxofbookslibrary.org
SUMMARY:Storytime
DESCRIPTION:Join us for a fall-themed storytime with books\, songs\, and activities. For ages 0-5.
URL:https://alfredboxofbookslibrary.org/event/storytime-44/
LOCATION:NY
END:VEVENT
END:VCALENDAR