BEGIN:VCALENDAR
VERSION:2.0
PRODID:-//Alfred Box of Books Library - ECPv6.15.20//NONSGML v1.0//EN
CALSCALE:GREGORIAN
METHOD:PUBLISH
X-WR-CALNAME:Alfred Box of Books Library
X-ORIGINAL-URL:https://alfredboxofbookslibrary.org
X-WR-CALDESC:Events for Alfred Box of Books Library
REFRESH-INTERVAL;VALUE=DURATION:PT1H
X-Robots-Tag:noindex
X-PUBLISHED-TTL:PT1H
BEGIN:VTIMEZONE
TZID:UTC
BEGIN:STANDARD
TZOFFSETFROM:+0000
TZOFFSETTO:+0000
TZNAME:UTC
DTSTART:20220101T000000
END:STANDARD
END:VTIMEZONE
BEGIN:VEVENT
DTSTART;TZID=UTC:20231202T100000
DTEND;TZID=UTC:20231202T120000
DTSTAMP:20260420T055745
CREATED:20230928T174115Z
LAST-MODIFIED:20230928T174115Z
UID:3105-1701511200-1701518400@alfredboxofbookslibrary.org
SUMMARY:Wreath Fundraiser | Decorating Event
DESCRIPTION:If you purchased a ticket for our holiday wreath fundraiser\, wreath kits will be available for pick up today between 10am-12pm at the Union University Church Center. \nYou can either take your kit to make your wreath at home or you can join us at the church center for a decorating event with hot chocolate and cookies. \nKits include a 24″ wreath handmade locally by East Wind Nursery\, bows\, and various decorations. All proceeds will benefit the Box of Books Library. \n 
URL:https://alfredboxofbookslibrary.org/event/wreath-fundraiser-decorating-event/
LOCATION:Union University Church Center\, 29 N. Main Street\, Alfred\, NY\, 14802\, United States
ORGANIZER;CN="Alfred Box of Books Library":MAILTO:alfred@stls.org
END:VEVENT
BEGIN:VEVENT
DTSTART;TZID=UTC:20231203T140000
DTEND;TZID=UTC:20231203T160000
DTSTAMP:20260420T055745
CREATED:20231024T143635Z
LAST-MODIFIED:20231024T143635Z
UID:3123-1701612000-1701619200@alfredboxofbookslibrary.org
SUMMARY:Wooly Wreath Craft
DESCRIPTION:Create a homemade 6″ wreath with wool strips.
URL:https://alfredboxofbookslibrary.org/event/wooly-wreath-craft/
LOCATION:Alfred Box of Books Library\, 1 West University Street\, Alfred\, NY\, 14802-1113\, United States
ORGANIZER;CN="Alfred Box of Books Library":MAILTO:alfred@stls.org
END:VEVENT
BEGIN:VEVENT
DTSTART;TZID=UTC:20231204T113000
DTEND;TZID=UTC:20231204T113000
DTSTAMP:20260420T055745
CREATED:20231024T144551Z
LAST-MODIFIED:20231024T145020Z
UID:3133-1701689400-1701689400@alfredboxofbookslibrary.org
SUMMARY:Understanding Climate Change
DESCRIPTION:Mary Lu Wells will break down the science behind climate change\, to help better understand what is going on\, how we know\, and what we can do to help. This 7 week class will take place via Zoom\, or you can join in-person at the library. \nZoom Link
URL:https://alfredboxofbookslibrary.org/event/understanding-climate-change-3/
LOCATION:NY
END:VEVENT
BEGIN:VEVENT
DTSTART;TZID=UTC:20231205T170000
DTEND;TZID=UTC:20231205T180000
DTSTAMP:20260420T055745
CREATED:20230807T153223Z
LAST-MODIFIED:20230807T153223Z
UID:3022-1701795600-1701799200@alfredboxofbookslibrary.org
SUMMARY:True Crime Book Club
DESCRIPTION:If you are interested in true crime\, join us the first Tuesday of every month as we discuss our latest book.
URL:https://alfredboxofbookslibrary.org/event/true-crime-book-club-23/
LOCATION:Terra Cotta Coffee House\, Alfred
ORGANIZER;CN="Alfred Box of Books Library":MAILTO:alfred@stls.org
END:VEVENT
BEGIN:VEVENT
DTSTART;TZID=UTC:20231206T110000
DTEND;TZID=UTC:20231206T110000
DTSTAMP:20260420T055745
CREATED:20230919T181110Z
LAST-MODIFIED:20230919T181110Z
UID:3080-1701860400-1701860400@alfredboxofbookslibrary.org
SUMMARY:Storytime
DESCRIPTION:Join us this week for a bear-themed storytime! Best for children 0-5
URL:https://alfredboxofbookslibrary.org/event/storytime-49/
LOCATION:NY
END:VEVENT
BEGIN:VEVENT
DTSTART;TZID=UTC:20231213T110000
DTEND;TZID=UTC:20231213T110000
DTSTAMP:20260420T055745
CREATED:20230919T181110Z
LAST-MODIFIED:20230919T181110Z
UID:3081-1702465200-1702465200@alfredboxofbookslibrary.org
SUMMARY:Storytime
DESCRIPTION:Join us this week for a bear-themed storytime! Best for children 0-5.
URL:https://alfredboxofbookslibrary.org/event/storytime-50/
LOCATION:NY
END:VEVENT
BEGIN:VEVENT
DTSTART;TZID=UTC:20231214T160000
DTEND;TZID=UTC:20231214T180000
DTSTAMP:20260420T055745
CREATED:20230713T163816Z
LAST-MODIFIED:20230713T163922Z
UID:2917-1702569600-1702576800@alfredboxofbookslibrary.org
SUMMARY:Hair Tinsel
DESCRIPTION:‘Tis the season for HAIR TINSEL! \nAdd some sparkle to your hair for the holiday season! \nCarrie Herrick from Exhale Collaborative will be at the library for appointments in 15 minute blocks.  Registration is required.  Please call or email the library: 607-587-9290 or alfred@stls.org. \n \n 
URL:https://alfredboxofbookslibrary.org/event/hair-tinsel/
LOCATION:Alfred Box of Books Library\, 1 West University Street\, Alfred\, NY\, 14802-1113\, United States
ORGANIZER;CN="Alfred Box of Books Library":MAILTO:alfred@stls.org
END:VEVENT
BEGIN:VEVENT
DTSTART;TZID=UTC:20231218T113000
DTEND;TZID=UTC:20231218T113000
DTSTAMP:20260420T055745
CREATED:20231024T144552Z
LAST-MODIFIED:20231024T144938Z
UID:3134-1702899000-1702899000@alfredboxofbookslibrary.org
SUMMARY:Understanding Climate Change
DESCRIPTION:Mary Lu Wells will break down the science behind climate change\, to help better understand what is going on\, how we know\, and what we can do to help. This 7 week class will take place via Zoom\, or you can join in-person at the library. \nZoom Link
URL:https://alfredboxofbookslibrary.org/event/understanding-climate-change-4/
LOCATION:NY
END:VEVENT
BEGIN:VEVENT
DTSTART;TZID=UTC:20231220T110000
DTEND;TZID=UTC:20231220T110000
DTSTAMP:20260420T055745
CREATED:20230919T181110Z
LAST-MODIFIED:20230919T181110Z
UID:3082-1703070000-1703070000@alfredboxofbookslibrary.org
SUMMARY:Storytime
DESCRIPTION:It’s the season for cookies! It’s a cookie themed storytime with books and activities all about cookies! For children 0-5.
URL:https://alfredboxofbookslibrary.org/event/storytime-51/
LOCATION:NY
END:VEVENT
BEGIN:VEVENT
DTSTART;VALUE=DATE:20231224
DTEND;VALUE=DATE:20231225
DTSTAMP:20260420T055745
CREATED:20230807T153451Z
LAST-MODIFIED:20230807T153451Z
UID:3028-1703376000-1703462399@alfredboxofbookslibrary.org
SUMMARY:Library Closed
DESCRIPTION:The library will be closed today for the holiday.
URL:https://alfredboxofbookslibrary.org/event/library-closed-25/
LOCATION:NY
END:VEVENT
BEGIN:VEVENT
DTSTART;VALUE=DATE:20231225
DTEND;VALUE=DATE:20231226
DTSTAMP:20260420T055745
CREATED:20230807T153523Z
LAST-MODIFIED:20230807T153523Z
UID:3030-1703462400-1703548799@alfredboxofbookslibrary.org
SUMMARY:Library Closed
DESCRIPTION:The library will be closed today for the holiday.
URL:https://alfredboxofbookslibrary.org/event/library-closed-26/
LOCATION:NY
END:VEVENT
BEGIN:VEVENT
DTSTART;TZID=UTC:20231227T110000
DTEND;TZID=UTC:20231227T110000
DTSTAMP:20260420T055745
CREATED:20230919T181307Z
LAST-MODIFIED:20230919T181307Z
UID:3083-1703674800-1703674800@alfredboxofbookslibrary.org
SUMMARY:No Storytime This Week
DESCRIPTION:No Storytime this week!
URL:https://alfredboxofbookslibrary.org/event/no-storytime-this-week-3/
LOCATION:NY
END:VEVENT
BEGIN:VEVENT
DTSTART;VALUE=DATE:20231231
DTEND;VALUE=DATE:20240101
DTSTAMP:20260420T055745
CREATED:20230807T153720Z
LAST-MODIFIED:20230807T153720Z
UID:3032-1703980800-1704067199@alfredboxofbookslibrary.org
SUMMARY:Library Closed
DESCRIPTION:The library is closed for the holiday.
URL:https://alfredboxofbookslibrary.org/event/library-closed-27/
LOCATION:NY
END:VEVENT
END:VCALENDAR