BEGIN:VCALENDAR
VERSION:2.0
PRODID:-//Alfred Box of Books Library - ECPv6.15.20//NONSGML v1.0//EN
CALSCALE:GREGORIAN
METHOD:PUBLISH
X-WR-CALNAME:Alfred Box of Books Library
X-ORIGINAL-URL:https://alfredboxofbookslibrary.org
X-WR-CALDESC:Events for Alfred Box of Books Library
REFRESH-INTERVAL;VALUE=DURATION:PT1H
X-Robots-Tag:noindex
X-PUBLISHED-TTL:PT1H
BEGIN:VTIMEZONE
TZID:UTC
BEGIN:STANDARD
TZOFFSETFROM:+0000
TZOFFSETTO:+0000
TZNAME:UTC
DTSTART:20230101T000000
END:STANDARD
END:VTIMEZONE
BEGIN:VEVENT
DTSTART;TZID=UTC:20240501T110000
DTEND;TZID=UTC:20240501T110000
DTSTAMP:20260420T172241
CREATED:20240410T164607Z
LAST-MODIFIED:20240410T164607Z
UID:3495-1714561200-1714561200@alfredboxofbookslibrary.org
SUMMARY:Storytime
DESCRIPTION:Join us today for storytime as we read about bees and butterflies. Children ages 0-5 and their caregivers can enjoy books and a craft
URL:https://alfredboxofbookslibrary.org/event/storytime-56/
LOCATION:NY
END:VEVENT
BEGIN:VEVENT
DTSTART;TZID=UTC:20240502T160000
DTEND;TZID=UTC:20240502T170000
DTSTAMP:20260420T172241
CREATED:20240226T183112Z
LAST-MODIFIED:20240226T183112Z
UID:3408-1714665600-1714669200@alfredboxofbookslibrary.org
SUMMARY:Perler Bead Magnets
DESCRIPTION:Make a custom magnet with Perler Beads. \nRecommended developmental age 7+.
URL:https://alfredboxofbookslibrary.org/event/perler-bead-magnets/
LOCATION:Alfred Box of Books Library\, 1 West University Street\, Alfred\, NY\, 14802-1113\, United States
ORGANIZER;CN="Alfred Box of Books Library":MAILTO:alfred@stls.org
END:VEVENT
BEGIN:VEVENT
DTSTART;TZID=UTC:20240507T140000
DTEND;TZID=UTC:20240507T140000
DTSTAMP:20260420T172241
CREATED:20240130T184721Z
LAST-MODIFIED:20240130T191414Z
UID:3312-1715090400-1715090400@alfredboxofbookslibrary.org
SUMMARY:Mah Jong at the Library
DESCRIPTION:Join with other players at the library every Tuesday.  If you’re a beginner or a regular player\,  you’re invited to join in the fun! Sets are provided.
URL:https://alfredboxofbookslibrary.org/event/mah-jong-at-the-library-15/
LOCATION:NY
END:VEVENT
BEGIN:VEVENT
DTSTART;TZID=UTC:20240508T110000
DTEND;TZID=UTC:20240508T110000
DTSTAMP:20260420T172241
CREATED:20240410T164611Z
LAST-MODIFIED:20240410T164611Z
UID:3496-1715166000-1715166000@alfredboxofbookslibrary.org
SUMMARY:Storytime
DESCRIPTION:Celebrate the bugs that help our foods grow! It’s a bug-themed storytime for children ages 0-5 and their caregivers!
URL:https://alfredboxofbookslibrary.org/event/storytime-57/
LOCATION:NY
END:VEVENT
BEGIN:VEVENT
DTSTART;TZID=UTC:20240514T140000
DTEND;TZID=UTC:20240514T140000
DTSTAMP:20260420T172241
CREATED:20240130T184808Z
LAST-MODIFIED:20240130T191429Z
UID:3313-1715695200-1715695200@alfredboxofbookslibrary.org
SUMMARY:Mah Jong at the Library
DESCRIPTION:Join with other players at the library every Tuesday.  If you’re a beginner or a regular player\,  you’re invited to join in the fun! Sets are provided.
URL:https://alfredboxofbookslibrary.org/event/mah-jong-at-the-library-16/
LOCATION:NY
END:VEVENT
BEGIN:VEVENT
DTSTART;TZID=UTC:20240514T160000
DTEND;TZID=UTC:20240514T170000
DTSTAMP:20260420T172241
CREATED:20240411T175033Z
LAST-MODIFIED:20240411T175033Z
UID:3522-1715702400-1715706000@alfredboxofbookslibrary.org
SUMMARY:Board of Trustees Meeting
DESCRIPTION:The Alfred Box of Books Library Board of Trustees will meet at 4:00 pm at Parish House.
URL:https://alfredboxofbookslibrary.org/event/board-of-trustees-meeting-12/
LOCATION:Parish House\, West University Street\, Alfred\, NY\, 14802\, United States
ORGANIZER;CN="Alfred Box of Books Library":MAILTO:alfred@stls.org
END:VEVENT
BEGIN:VEVENT
DTSTART;TZID=UTC:20240515T110000
DTEND;TZID=UTC:20240515T110000
DTSTAMP:20260420T172241
CREATED:20240410T164611Z
LAST-MODIFIED:20240410T164611Z
UID:3497-1715770800-1715770800@alfredboxofbookslibrary.org
SUMMARY:Storytime
DESCRIPTION:A-B-SEE you at Storytime! We’ll be reading books with the ABCs this week.
URL:https://alfredboxofbookslibrary.org/event/storytime-58/
LOCATION:NY
END:VEVENT
BEGIN:VEVENT
DTSTART;TZID=UTC:20240517T180000
DTEND;TZID=UTC:20240517T200000
DTSTAMP:20260420T172241
CREATED:20240226T182741Z
LAST-MODIFIED:20240226T182741Z
UID:3404-1715968800-1715976000@alfredboxofbookslibrary.org
SUMMARY:Post It Trivia Night
DESCRIPTION:DJ Macool will be in Alfred to host Post It Trivia.  Gather a team and join us at Susan Howell Hall on the Alfred University Campus for tons of fun! This program is FREE and open to the public. Players should be 16+. \nRefreshments available.
URL:https://alfredboxofbookslibrary.org/event/post-it-trivia-night-2/
LOCATION:NY
ORGANIZER;CN="Alfred Box of Books Library":MAILTO:alfred@stls.org
END:VEVENT
BEGIN:VEVENT
DTSTART;TZID=UTC:20240518T100000
DTEND;TZID=UTC:20240518T120000
DTSTAMP:20260420T172241
CREATED:20240226T184144Z
LAST-MODIFIED:20240226T184200Z
UID:3410-1716026400-1716033600@alfredboxofbookslibrary.org
SUMMARY:Community Charcuterie
DESCRIPTION:Kristina Snyder of Sunny Cove Farms and Kristylee Davis of SheBrews and Holycakes will teach a workshop on sourcing local\, seasonal food to create your own charcuterie board.  The workshop will include visual appeal\, tasty pairings\, and creating a beautiful board for your next gathering. \nParticipants will leave with a wooden charcuterie board with locally sourced ingredients! \nSpace is limited and registration is required. Register Here \n 
URL:https://alfredboxofbookslibrary.org/event/community-charcuterie/
LOCATION:Union University Church Center\, 29 N. Main Street\, Alfred\, NY\, 14802\, United States
ORGANIZER;CN="Alfred Box of Books Library":MAILTO:alfred@stls.org
END:VEVENT
BEGIN:VEVENT
DTSTART;TZID=UTC:20240521T140000
DTEND;TZID=UTC:20240521T140000
DTSTAMP:20260420T172241
CREATED:20240130T184808Z
LAST-MODIFIED:20240130T191429Z
UID:3314-1716300000-1716300000@alfredboxofbookslibrary.org
SUMMARY:Mah Jong at the Library
DESCRIPTION:Join with other players at the library every Tuesday.  If you’re a beginner or a regular player\,  you’re invited to join in the fun! Sets are provided.
URL:https://alfredboxofbookslibrary.org/event/mah-jong-at-the-library-17/
LOCATION:NY
END:VEVENT
BEGIN:VEVENT
DTSTART;TZID=UTC:20240522T110000
DTEND;TZID=UTC:20240522T110000
DTSTAMP:20260420T172241
CREATED:20240410T164611Z
LAST-MODIFIED:20240410T164611Z
UID:3498-1716375600-1716375600@alfredboxofbookslibrary.org
SUMMARY:Storytime
DESCRIPTION:Let’s celebrate our community helpers. From firefighters\, police officers\, child care providers\, and the post office\, we’re learning about community helpers this week at storytime!
URL:https://alfredboxofbookslibrary.org/event/storytime-59/
LOCATION:NY
END:VEVENT
BEGIN:VEVENT
DTSTART;TZID=UTC:20240523T170000
DTEND;TZID=UTC:20240523T183000
DTSTAMP:20260420T172241
CREATED:20240201T175901Z
LAST-MODIFIED:20240205T190502Z
UID:3357-1716483600-1716489000@alfredboxofbookslibrary.org
SUMMARY:STEM Tales: They're Tearing Up Mulberry Street
DESCRIPTION:The library is excited to share that we are offering a series of four STEM (Science\, Technology\, Engineering\, and Math) programs from children ages 4-8 and their families! \nIn partnership with the National Science Foundation\, Twin Cities PBS\, and StarNet\, the library will host programs centered around a different STEM topic and picture book. \nParticipants can attend one\, some\, or all sessions free of charge. Participants will receive free take home activities kits. Light refreshments will be served at each program. Register here: https://forms.gle/ZSGpfghMBNz68ZjU8  \nPlease note: Some programs are held at Alfred Montessori School and some are held at the Box of Books. \nIf you have any questions\, please reach out to the library at millerm@stls.org.
URL:https://alfredboxofbookslibrary.org/event/stem-tales-theyre-tearing-up-mulberry-street/
LOCATION:Alfred Box of Books Library\, 1 West University Street\, Alfred\, NY\, 14802-1113\, United States
ORGANIZER;CN="Alfred Box of Books Library":MAILTO:alfred@stls.org
END:VEVENT
BEGIN:VEVENT
DTSTART;TZID=UTC:20240528T140000
DTEND;TZID=UTC:20240528T140000
DTSTAMP:20260420T172241
CREATED:20240130T184808Z
LAST-MODIFIED:20240130T191429Z
UID:3315-1716904800-1716904800@alfredboxofbookslibrary.org
SUMMARY:Mah Jong at the Library
DESCRIPTION:Join with other players at the library every Tuesday.  If you’re a beginner or a regular player\,  you’re invited to join in the fun! Sets are provided.
URL:https://alfredboxofbookslibrary.org/event/mah-jong-at-the-library-18/
LOCATION:NY
END:VEVENT
BEGIN:VEVENT
DTSTART;TZID=UTC:20240529T110000
DTEND;TZID=UTC:20240529T110000
DTSTAMP:20260420T172241
CREATED:20240410T164611Z
LAST-MODIFIED:20240410T164611Z
UID:3499-1716980400-1716980400@alfredboxofbookslibrary.org
SUMMARY:No Storytime
DESCRIPTION:No storytime this week.
URL:https://alfredboxofbookslibrary.org/event/no-storytime/
LOCATION:NY
END:VEVENT
END:VCALENDAR