BEGIN:VCALENDAR
VERSION:2.0
PRODID:-//Alfred Box of Books Library - ECPv6.15.20//NONSGML v1.0//EN
CALSCALE:GREGORIAN
METHOD:PUBLISH
X-ORIGINAL-URL:https://alfredboxofbookslibrary.org
X-WR-CALDESC:Events for Alfred Box of Books Library
REFRESH-INTERVAL;VALUE=DURATION:PT1H
X-Robots-Tag:noindex
X-PUBLISHED-TTL:PT1H
BEGIN:VTIMEZONE
TZID:UTC
BEGIN:STANDARD
TZOFFSETFROM:+0000
TZOFFSETTO:+0000
TZNAME:UTC
DTSTART:20230101T000000
END:STANDARD
END:VTIMEZONE
BEGIN:VEVENT
DTSTART;TZID=UTC:20240604T170000
DTEND;TZID=UTC:20240604T180000
DTSTAMP:20260420T204744
CREATED:20240524T144752Z
LAST-MODIFIED:20240524T144752Z
UID:3572-1717520400-1717524000@alfredboxofbookslibrary.org
SUMMARY:True Crime Book Club
DESCRIPTION:This month we will be meeting at the library as we discuss “Victim F: From Crime Victims to Suspects to Suvivors” by Denise Huskins and Aaron Quinn.
URL:https://alfredboxofbookslibrary.org/event/true-crime-book-club-24/
LOCATION:Alfred Box of Books Library\, 1 West University Street\, Alfred\, NY\, 14802-1113\, United States
ORGANIZER;CN="Alfred Box of Books Library":MAILTO:alfred@stls.org
END:VEVENT
BEGIN:VEVENT
DTSTART;TZID=UTC:20240605T110000
DTEND;TZID=UTC:20240605T110000
DTSTAMP:20260420T204744
CREATED:20240410T164612Z
LAST-MODIFIED:20240410T164612Z
UID:3500-1717585200-1717585200@alfredboxofbookslibrary.org
SUMMARY:Storytime
DESCRIPTION:Join us today for storytime as we learn about colors! Children ages 0-5 and their caregivers are invited to storytime as we explore colors!
URL:https://alfredboxofbookslibrary.org/event/storytime-60/
LOCATION:NY
END:VEVENT
BEGIN:VEVENT
DTSTART;TZID=UTC:20240605T160000
DTEND;TZID=UTC:20240605T180000
DTSTAMP:20260420T204744
CREATED:20240226T184642Z
LAST-MODIFIED:20240226T184642Z
UID:3413-1717603200-1717610400@alfredboxofbookslibrary.org
SUMMARY:Learn to Crochet
DESCRIPTION:Learn to crochet or brush up on skills with this workshop led by Dave Keefer. All materials will be provided\, including crochet hooks and yarn. \nPlease register: Register Here
URL:https://alfredboxofbookslibrary.org/event/learn-to-crochet/
LOCATION:Alfred Box of Books Library\, 1 West University Street\, Alfred\, NY\, 14802-1113\, United States
ORGANIZER;CN="Alfred Box of Books Library":MAILTO:alfred@stls.org
END:VEVENT
BEGIN:VEVENT
DTSTART;TZID=UTC:20240607T130000
DTEND;TZID=UTC:20240607T150000
DTSTAMP:20260420T204744
CREATED:20240226T184734Z
LAST-MODIFIED:20240226T184734Z
UID:3415-1717765200-1717772400@alfredboxofbookslibrary.org
SUMMARY:Learn to Crochet
DESCRIPTION:Learn to crochet or brush up on skills with this workshop led by Dave Keefer. All materials will be provided\, including crochet hooks and yarn. \nPlease register: Register Here
URL:https://alfredboxofbookslibrary.org/event/learn-to-crochet-2/
LOCATION:Alfred Box of Books Library\, 1 West University Street\, Alfred\, NY\, 14802-1113\, United States
ORGANIZER;CN="Alfred Box of Books Library":MAILTO:alfred@stls.org
END:VEVENT
BEGIN:VEVENT
DTSTART;TZID=UTC:20240609T110000
DTEND;TZID=UTC:20240609T150000
DTSTAMP:20260420T204744
CREATED:20240524T144930Z
LAST-MODIFIED:20240524T144930Z
UID:3574-1717930800-1717945200@alfredboxofbookslibrary.org
SUMMARY:Market Sprouts
DESCRIPTION:The library will be at the Farmer’s Market opening day festival! We are sponsoring Benajmin Berry and his circus arts program for kids\, facepainting\, and a storywalk so you can visit all the vendors!
URL:https://alfredboxofbookslibrary.org/event/market-sprouts/
LOCATION:Alfred Box of Books Library\, 1 West University Street\, Alfred\, NY\, 14802-1113\, United States
ORGANIZER;CN="Alfred Box of Books Library":MAILTO:alfred@stls.org
END:VEVENT
BEGIN:VEVENT
DTSTART;TZID=UTC:20240611T160000
DTEND;TZID=UTC:20240611T170000
DTSTAMP:20260420T204744
CREATED:20240411T175127Z
LAST-MODIFIED:20240411T175127Z
UID:3524-1718121600-1718125200@alfredboxofbookslibrary.org
SUMMARY:Board of Trustees Meeting
DESCRIPTION:The Alfred Box of Books Library Board of Trustees will meet at 4:00pm at Parish House.
URL:https://alfredboxofbookslibrary.org/event/board-of-trustees-meeting-13/
LOCATION:Parish House\, West University Street\, Alfred\, NY\, 14802\, United States
ORGANIZER;CN="Alfred Box of Books Library":MAILTO:alfred@stls.org
END:VEVENT
BEGIN:VEVENT
DTSTART;TZID=UTC:20240612T110000
DTEND;TZID=UTC:20240612T110000
DTSTAMP:20260420T204744
CREATED:20240410T164626Z
LAST-MODIFIED:20240410T164626Z
UID:3501-1718190000-1718190000@alfredboxofbookslibrary.org
SUMMARY:Storytime
DESCRIPTION:It’s almost summer. This week we’ll read about ocean animals at storytime! For children ages 0-5 and their caregivers.
URL:https://alfredboxofbookslibrary.org/event/storytime-61/
LOCATION:NY
END:VEVENT
BEGIN:VEVENT
DTSTART;TZID=UTC:20240619T110000
DTEND;TZID=UTC:20240619T110000
DTSTAMP:20260420T204744
CREATED:20240410T164626Z
LAST-MODIFIED:20240410T164626Z
UID:3502-1718794800-1718794800@alfredboxofbookslibrary.org
SUMMARY:Storytime
DESCRIPTION:It’s construction season.  We’ll read books featuring dozers\, loaders\, excavators and more!
URL:https://alfredboxofbookslibrary.org/event/storytime-62/
LOCATION:NY
END:VEVENT
BEGIN:VEVENT
DTSTART;TZID=UTC:20240620T160000
DTEND;TZID=UTC:20240620T170000
DTSTAMP:20260420T204744
CREATED:20240226T185115Z
LAST-MODIFIED:20240618T190145Z
UID:3418-1718899200-1718902800@alfredboxofbookslibrary.org
SUMMARY:DIY Scratch Art Mandala
DESCRIPTION:Celebrate the Summer Solstice with colorful art. \nLearn to make your own scratch art. \nRecommended developmental age 5+
URL:https://alfredboxofbookslibrary.org/event/diy-scratch-art-mandala/
LOCATION:Alfred Box of Books Library\, 1 West University Street\, Alfred\, NY\, 14802-1113\, United States
CATEGORIES:Children's Program
ORGANIZER;CN="Alfred Box of Books Library":MAILTO:alfred@stls.org
END:VEVENT
BEGIN:VEVENT
DTSTART;TZID=UTC:20240626T110000
DTEND;TZID=UTC:20240626T110000
DTSTAMP:20260420T204744
CREATED:20240410T164626Z
LAST-MODIFIED:20240410T164626Z
UID:3503-1719399600-1719399600@alfredboxofbookslibrary.org
SUMMARY:No Storytime
DESCRIPTION:No storytime this week.
URL:https://alfredboxofbookslibrary.org/event/no-storytime-2/
LOCATION:NY
END:VEVENT
END:VCALENDAR