BEGIN:VCALENDAR
VERSION:2.0
PRODID:-//Alfred Box of Books Library - ECPv6.15.20//NONSGML v1.0//EN
CALSCALE:GREGORIAN
METHOD:PUBLISH
X-WR-CALNAME:Alfred Box of Books Library
X-ORIGINAL-URL:https://alfredboxofbookslibrary.org
X-WR-CALDESC:Events for Alfred Box of Books Library
REFRESH-INTERVAL;VALUE=DURATION:PT1H
X-Robots-Tag:noindex
X-PUBLISHED-TTL:PT1H
BEGIN:VTIMEZONE
TZID:UTC
BEGIN:STANDARD
TZOFFSETFROM:+0000
TZOFFSETTO:+0000
TZNAME:UTC
DTSTART:20240101T000000
END:STANDARD
END:VTIMEZONE
BEGIN:VEVENT
DTSTART;TZID=UTC:20250204T170000
DTEND;TZID=UTC:20250204T180000
DTSTAMP:20260420T103446
CREATED:20241126T162408Z
LAST-MODIFIED:20241126T162408Z
UID:4022-1738688400-1738692000@alfredboxofbookslibrary.org
SUMMARY:True Crime Book Club
DESCRIPTION:Fans of true crime will enjoy our monthly book club. The first Tuesday of the month\, join us for discussion.  The library provides free copies of the book.  Interested in joining? Email alfred@stls.org
URL:https://alfredboxofbookslibrary.org/event/true-crime-book-club-27/
LOCATION:Alfred Box of Books Library\, 1 West University Street\, Alfred\, NY\, 14802-1113\, United States
CATEGORIES:Adult Programs
ORGANIZER;CN="Alfred Box of Books Library":MAILTO:alfred@stls.org
END:VEVENT
BEGIN:VEVENT
DTSTART;TZID=UTC:20250205T180000
DTEND;TZID=UTC:20250205T190000
DTSTAMP:20260420T103446
CREATED:20241126T160819Z
LAST-MODIFIED:20241126T160819Z
UID:4008-1738778400-1738782000@alfredboxofbookslibrary.org
SUMMARY:Adult Lego Night
DESCRIPTION:Who said LEGOs are just for kids? Relieve some stress\, mingle with friends\, and get creative!
URL:https://alfredboxofbookslibrary.org/event/adult-lego-night/
LOCATION:Alfred Box of Books Library\, 1 West University Street\, Alfred\, NY\, 14802-1113\, United States
CATEGORIES:Adult Programs
ORGANIZER;CN="Alfred Box of Books Library":MAILTO:alfred@stls.org
END:VEVENT
BEGIN:VEVENT
DTSTART;TZID=UTC:20250211T160000
DTEND;TZID=UTC:20250211T170000
DTSTAMP:20260420T103446
CREATED:20241126T161014Z
LAST-MODIFIED:20241126T161014Z
UID:4010-1739289600-1739293200@alfredboxofbookslibrary.org
SUMMARY:Calligraphy Workshop
DESCRIPTION:Learn a new skill: Calligraphy! Join us for our calligraphy workshop led by Lilly Thiell Milliman. All materials provided. \nRegistration is required.  Call 607-587-9290 or email alfred@stls.org.
URL:https://alfredboxofbookslibrary.org/event/calligraphy-workshop/
LOCATION:Alfred Box of Books Library\, 1 West University Street\, Alfred\, NY\, 14802-1113\, United States
CATEGORIES:Adult Programs
ORGANIZER;CN="Alfred Box of Books Library":MAILTO:alfred@stls.org
END:VEVENT
END:VCALENDAR