BEGIN:VCALENDAR
VERSION:2.0
PRODID:-//Alfred Box of Books Library - ECPv6.15.20//NONSGML v1.0//EN
CALSCALE:GREGORIAN
METHOD:PUBLISH
X-ORIGINAL-URL:https://alfredboxofbookslibrary.org
X-WR-CALDESC:Events for Alfred Box of Books Library
REFRESH-INTERVAL;VALUE=DURATION:PT1H
X-Robots-Tag:noindex
X-PUBLISHED-TTL:PT1H
BEGIN:VTIMEZONE
TZID:UTC
BEGIN:STANDARD
TZOFFSETFROM:+0000
TZOFFSETTO:+0000
TZNAME:UTC
DTSTART:20240101T000000
END:STANDARD
END:VTIMEZONE
BEGIN:VEVENT
DTSTART;TZID=UTC:20250501T170000
DTEND;TZID=UTC:20250501T180000
DTSTAMP:20260420T072702
CREATED:20250317T134000Z
LAST-MODIFIED:20250317T134000Z
UID:4164-1746118800-1746122400@alfredboxofbookslibrary.org
SUMMARY:Junk Journaling
DESCRIPTION:Junk journaling is an art in which you create personalized journals with repurposed materials such as old books\, magazines\, found objects\, photographs\, and other items. Collage pages with various items to express your creativity. \nRegistration is required. Register by calling 607-587-9290 or emailing alfred@stls.org.
URL:https://alfredboxofbookslibrary.org/event/junk-journaling/
LOCATION:Alfred Box of Books Library\, 1 West University Street\, Alfred\, NY\, 14802-1113\, United States
CATEGORIES:Adult Programs,Teen Program
ORGANIZER;CN="Alfred Box of Books Library":MAILTO:alfred@stls.org
END:VEVENT
END:VCALENDAR