BEGIN:VCALENDAR
VERSION:2.0
PRODID:-//Alfred Box of Books Library - ECPv6.15.20//NONSGML v1.0//EN
CALSCALE:GREGORIAN
METHOD:PUBLISH
X-WR-CALNAME:Alfred Box of Books Library
X-ORIGINAL-URL:https://alfredboxofbookslibrary.org
X-WR-CALDESC:Events for Alfred Box of Books Library
REFRESH-INTERVAL;VALUE=DURATION:PT1H
X-Robots-Tag:noindex
X-PUBLISHED-TTL:PT1H
BEGIN:VTIMEZONE
TZID:UTC
BEGIN:STANDARD
TZOFFSETFROM:+0000
TZOFFSETTO:+0000
TZNAME:UTC
DTSTART:20240101T000000
END:STANDARD
END:VTIMEZONE
BEGIN:VEVENT
DTSTART;TZID=UTC:20250514T180000
DTEND;TZID=UTC:20250514T200000
DTSTAMP:20260420T072357
CREATED:20250317T134350Z
LAST-MODIFIED:20250506T140058Z
UID:4168-1747245600-1747252800@alfredboxofbookslibrary.org
SUMMARY:Embroidered Tote Bag
DESCRIPTION:Jess Hands of Stitched by Hands will be at the library to lead a workshop and help participants create an embroidered tote bag. Registration is required and space is limited. We need to have 10 people registered in order to hold this class because Jess will be traveling to Alfred for this workshop! \nRegister by Friday\, May 9th. \nRegister by calling 607-587-9290 or email alfred@stls.org.
URL:https://alfredboxofbookslibrary.org/event/embroidered-tote-bag/
LOCATION:Alfred Box of Books Library\, 1 West University Street\, Alfred\, NY\, 14802-1113\, United States
CATEGORIES:Adult Programs,Teen Program
ORGANIZER;CN="Alfred Box of Books Library":MAILTO:alfred@stls.org
END:VEVENT
END:VCALENDAR