BEGIN:VCALENDAR
VERSION:2.0
PRODID:-//Alfred Box of Books Library - ECPv6.15.20//NONSGML v1.0//EN
CALSCALE:GREGORIAN
METHOD:PUBLISH
X-WR-CALNAME:Alfred Box of Books Library
X-ORIGINAL-URL:https://alfredboxofbookslibrary.org
X-WR-CALDESC:Events for Alfred Box of Books Library
REFRESH-INTERVAL;VALUE=DURATION:PT1H
X-Robots-Tag:noindex
X-PUBLISHED-TTL:PT1H
BEGIN:VTIMEZONE
TZID:UTC
BEGIN:STANDARD
TZOFFSETFROM:+0000
TZOFFSETTO:+0000
TZNAME:UTC
DTSTART:20240101T000000
END:STANDARD
END:VTIMEZONE
BEGIN:VEVENT
DTSTART;TZID=UTC:20250404T160000
DTEND;TZID=UTC:20250404T170000
DTSTAMP:20260420T192723
CREATED:20250320T172637Z
LAST-MODIFIED:20250320T172637Z
UID:4201-1743782400-1743786000@alfredboxofbookslibrary.org
SUMMARY:Alice in Wonderland Meet and Greet
DESCRIPTION:The Alfred State Drama Club is holding a production of Alice in Wonderland! Characters from the play will be on site at the library for a meet and greet! Stop by and say hi to Alice and the gang! \nThe play will run from April 10-12 at 7pm at the Cappadonia Auditorium at Alfred State. Tickets are available at the Campus Store. $5/ students and $10/community members.
URL:https://alfredboxofbookslibrary.org/event/alice-in-wonderland-meet-and-greet/
LOCATION:Alfred Box of Books Library\, 1 West University Street\, Alfred\, NY\, 14802-1113\, United States
CATEGORIES:General Audience
ORGANIZER;CN="Alfred Box of Books Library":MAILTO:alfred@stls.org
END:VEVENT
BEGIN:VEVENT
DTSTART;TZID=UTC:20250411T180000
DTEND;TZID=UTC:20250411T200000
DTSTAMP:20260420T192723
CREATED:20250320T172414Z
LAST-MODIFIED:20250320T172725Z
UID:4197-1744394400-1744401600@alfredboxofbookslibrary.org
SUMMARY:Rock Wall Climbing
DESCRIPTION:Join us on Friday\, April 11 for rock wall climbing at Alfred State. The rock wall is located on the third floor of the Student Leadership Center. Parking is available near the SLC building as outlined on the map below. All children must be supervised and accompanied by a parent or guardian. Best for children ages 7+.  Pizza and water will be provided by the library! \n  \n 
URL:https://alfredboxofbookslibrary.org/event/rock-wall-climbing-2/
LOCATION:Student Leadership Center\, Upper College Drive\, Alfred\, NY\, 14802\, United States
CATEGORIES:Children's Program
ORGANIZER;CN="Alfred Box of Books Library":MAILTO:alfred@stls.org
END:VEVENT
END:VCALENDAR