BEGIN:VCALENDAR
VERSION:2.0
PRODID:-//Alfred Box of Books Library - ECPv6.15.20//NONSGML v1.0//EN
CALSCALE:GREGORIAN
METHOD:PUBLISH
X-ORIGINAL-URL:https://alfredboxofbookslibrary.org
X-WR-CALDESC:Events for Alfred Box of Books Library
REFRESH-INTERVAL;VALUE=DURATION:PT1H
X-Robots-Tag:noindex
X-PUBLISHED-TTL:PT1H
BEGIN:VTIMEZONE
TZID:UTC
BEGIN:STANDARD
TZOFFSETFROM:+0000
TZOFFSETTO:+0000
TZNAME:UTC
DTSTART:20240101T000000
END:STANDARD
END:VTIMEZONE
BEGIN:VEVENT
DTSTART;TZID=UTC:20250707T160000
DTEND;TZID=UTC:20250707T180000
DTSTAMP:20260420T204903
CREATED:20250521T184927Z
LAST-MODIFIED:20250630T130019Z
UID:4323-1751904000-1751911200@alfredboxofbookslibrary.org
SUMMARY:Summer Reading Kickoff
DESCRIPTION:Sign up for summer reading and enjoy family fun! We’ll have live music provided by Garegin Grigoryan\, build your own reading buddy\, and more! \nSummer reading will run from July 7 until August 15.  Track your reading and win prizes! \n 
URL:https://alfredboxofbookslibrary.org/event/summer-reading-kickoff/
LOCATION:Alfred Box of Books Library\, 1 West University Street\, Alfred\, NY\, 14802-1113\, United States
CATEGORIES:Adult Programs,Children's Program,General Audience,Teen Program
ORGANIZER;CN="Alfred Box of Books Library":MAILTO:alfred@stls.org
END:VEVENT
BEGIN:VEVENT
DTSTART;TZID=UTC:20250710T160000
DTEND;TZID=UTC:20250710T180000
DTSTAMP:20260420T204903
CREATED:20250521T185353Z
LAST-MODIFIED:20250521T185452Z
UID:4327-1752163200-1752170400@alfredboxofbookslibrary.org
SUMMARY:Draw Your Own Comic with Doogie Horner
DESCRIPTION:Bestselling author and illustrator\, Doogie Horner will lead a workshop for all ages on creating your own comic book! \nGet creative in this hands on workshop. \nRegister by emailing alfred@stls.org or calling 607-587-9290 or sign up in person the next time you visit the library!
URL:https://alfredboxofbookslibrary.org/event/draw-your-own-comic-with-doogie-horner/
LOCATION:Alfred Box of Books Library\, 1 West University Street\, Alfred\, NY\, 14802-1113\, United States
CATEGORIES:General Audience
ORGANIZER;CN="Alfred Box of Books Library":MAILTO:alfred@stls.org
END:VEVENT
BEGIN:VEVENT
DTSTART;TZID=UTC:20250713T130000
DTEND;TZID=UTC:20250713T150000
DTSTAMP:20260420T204903
CREATED:20250603T190153Z
LAST-MODIFIED:20250603T190153Z
UID:4380-1752411600-1752418800@alfredboxofbookslibrary.org
SUMMARY:Family Day at the Alfred Ceramic Arts Museum
DESCRIPTION:Get free entry into the Alfred Ceramic Arts Museum.  Complete a scavenger hunt there and win a prize as part of the library’s summer reading program.  Be sure to stop by the library to get your ticket for our raffle baskets for participating in a program!  (There is also a second scavenger hunt you can participate in!) \n 
URL:https://alfredboxofbookslibrary.org/event/family-day-at-the-alfred-ceramic-arts-museum/
LOCATION:Alfred Ceramics Museum\, Pine Street\, Alfred\, NY\, 14802\, United States
CATEGORIES:General Audience
ORGANIZER;CN="Alfred Box of Books Library":MAILTO:alfred@stls.org
END:VEVENT
BEGIN:VEVENT
DTSTART;TZID=UTC:20250728T160000
DTEND;TZID=UTC:20250728T180000
DTSTAMP:20260420T204903
CREATED:20250603T190451Z
LAST-MODIFIED:20250603T190451Z
UID:4382-1753718400-1753725600@alfredboxofbookslibrary.org
SUMMARY:Petting Zoo
DESCRIPTION:Mike Morton of Sun Dance Kids Farms will be at the library with several animals! Get up close and personal with several furry (and not so furry) friends! \nThis event will take place on the bandstand lawn (across the street from the library!)
URL:https://alfredboxofbookslibrary.org/event/petting-zoo/
LOCATION:Alfred Box of Books Library\, 1 West University Street\, Alfred\, NY\, 14802-1113\, United States
CATEGORIES:General Audience
ORGANIZER;CN="Alfred Box of Books Library":MAILTO:alfred@stls.org
END:VEVENT
END:VCALENDAR