BEGIN:VCALENDAR
VERSION:2.0
PRODID:-//Alfred Box of Books Library - ECPv6.15.20//NONSGML v1.0//EN
CALSCALE:GREGORIAN
METHOD:PUBLISH
X-ORIGINAL-URL:https://alfredboxofbookslibrary.org
X-WR-CALDESC:Events for Alfred Box of Books Library
REFRESH-INTERVAL;VALUE=DURATION:PT1H
X-Robots-Tag:noindex
X-PUBLISHED-TTL:PT1H
BEGIN:VTIMEZONE
TZID:UTC
BEGIN:STANDARD
TZOFFSETFROM:+0000
TZOFFSETTO:+0000
TZNAME:UTC
DTSTART:20240101T000000
END:STANDARD
END:VTIMEZONE
BEGIN:VEVENT
DTSTART;TZID=UTC:20250911T180000
DTEND;TZID=UTC:20250911T200000
DTSTAMP:20260420T155012
CREATED:20250908T122037Z
LAST-MODIFIED:20250908T152934Z
UID:4550-1757613600-1757620800@alfredboxofbookslibrary.org
SUMMARY:Free For All: The Public Library Movie Showing
DESCRIPTION:This September\, we’re celebrating Library Card Sign-Up Month!  STLS will host screenings of the PBS documentary Free for All: The Public Library across our five-county region. This award-winning film explores the rich history of libraries\, from the 19th-century Free Library Movement to today’s conversations around funding\, access\, book bans\, and digital equity. Each event will include a screening followed by a Q&A led by library directors\, staff\, and trustees from across the region. \nJoin us on Thursday\, September 11  at the David A. Howe Library in Wellsville.  \nOther showings around the region include: \n\n\nSept. 10 | 5:00–7:00 PM – Spotlight Theater\, Hornell\n\n\nSept. 11 | 6:00–8:00 PM – David A. Howe Library\n\n\nSept. 17 | 6:00–8:00 PM – The Glen Theater\, Watkins Glen\n\n\nSept. 23 | 6:00–8:00 PM – Steele Memorial Library\n\n\nSept. 24 | 6:00–8:00 PM – Cuba Circulating Library\n\n\nSept. 26 | 6:00–8:00 PM – Penn Yan Public Library\n\n\nSept. 30 | 6:00–8:00 PM – The Palace Theatre\, Corning
URL:https://alfredboxofbookslibrary.org/event/free-for-all-the-public-library-movie-showing/
LOCATION:David A. Howe Library\, 155 Main Street\, Wellsville\, NY\, 14895\, United States
CATEGORIES:General Audience
END:VEVENT
BEGIN:VEVENT
DTSTART;TZID=UTC:20250930T160000
DTEND;TZID=UTC:20250930T170000
DTSTAMP:20260420T155012
CREATED:20250818T163551Z
LAST-MODIFIED:20250818T163551Z
UID:4520-1759248000-1759251600@alfredboxofbookslibrary.org
SUMMARY:Air Plant Pinch Pot w/ Rebecca Nightingale
DESCRIPTION:Make your own pinch pot with potter Rebecca Nightingale.  She will walk participants through creating a pinch pot and then fire them at her kiln. \nAir plants will be provided. \nThis program is for all ages. Children under 10 must have adult support.
URL:https://alfredboxofbookslibrary.org/event/air-plant-pinch-pot-w-rebecca-nightingale/
LOCATION:Alfred Box of Books Library\, 1 West University Street\, Alfred\, NY\, 14802-1113\, United States
CATEGORIES:General Audience
ORGANIZER;CN="Alfred Box of Books Library":MAILTO:alfred@stls.org
END:VEVENT
END:VCALENDAR