BEGIN:VCALENDAR
VERSION:2.0
PRODID:-//Alfred Box of Books Library - ECPv6.15.20//NONSGML v1.0//EN
CALSCALE:GREGORIAN
METHOD:PUBLISH
X-ORIGINAL-URL:https://alfredboxofbookslibrary.org
X-WR-CALDESC:Events for Alfred Box of Books Library
REFRESH-INTERVAL;VALUE=DURATION:PT1H
X-Robots-Tag:noindex
X-PUBLISHED-TTL:PT1H
BEGIN:VTIMEZONE
TZID:UTC
BEGIN:STANDARD
TZOFFSETFROM:+0000
TZOFFSETTO:+0000
TZNAME:UTC
DTSTART:20240101T000000
END:STANDARD
END:VTIMEZONE
BEGIN:VEVENT
DTSTART;TZID=UTC:20251018T140000
DTEND;TZID=UTC:20251018T160000
DTSTAMP:20260420T141322
CREATED:20251007T142018Z
LAST-MODIFIED:20251007T142037Z
UID:4529-1760796000-1760803200@alfredboxofbookslibrary.org
SUMMARY:Howl-oween Dog Costume Parade
DESCRIPTION:Enter your dog to participate in the costume parade\, or just come see all the pups in costume! \nRegister your dog here: https://forms.gle/dyLi6Pzo15EvAfao7  \nRegistered participants will receive an email with detailed instructions for the day of the event. \nJust watching? The parade will begin promptly at 2pm. Be at the AU Quad and then vote for your favorite pup! Voting will take place immediately following the parade until 3:00pm. \nThis event is part of Alfred University’s Festi-Fall\, and is for all ages.
URL:https://alfredboxofbookslibrary.org/event/dog-halloween-costume-contest/
LOCATION:NY
CATEGORIES:General Audience
END:VEVENT
END:VCALENDAR