BEGIN:VCALENDAR
VERSION:2.0
PRODID:-//Alfred Box of Books Library - ECPv6.15.20//NONSGML v1.0//EN
CALSCALE:GREGORIAN
METHOD:PUBLISH
X-ORIGINAL-URL:https://alfredboxofbookslibrary.org
X-WR-CALDESC:Events for Alfred Box of Books Library
REFRESH-INTERVAL;VALUE=DURATION:PT1H
X-Robots-Tag:noindex
X-PUBLISHED-TTL:PT1H
BEGIN:VTIMEZONE
TZID:UTC
BEGIN:STANDARD
TZOFFSETFROM:+0000
TZOFFSETTO:+0000
TZNAME:UTC
DTSTART:20250101T000000
END:STANDARD
END:VTIMEZONE
BEGIN:VEVENT
DTSTART;TZID=UTC:20260126T150000
DTEND;TZID=UTC:20260126T170000
DTSTAMP:20260419T215325
CREATED:20251217T172903Z
LAST-MODIFIED:20251217T172903Z
UID:4826-1769439600-1769446800@alfredboxofbookslibrary.org
SUMMARY:Rock Wall Climbing at Alfred State
DESCRIPTION:There is no school today\, but join us at the Alfred State rock wall for some fun! The rock wall is located on the third floor of the Student Leadership Center.  Parking is available near the University Police building in the visitor lot. The event is open to all ages\, however\, children must be accompanied by a parent or caregiver.   \n 
URL:https://alfredboxofbookslibrary.org/event/rock-wall-climbing-at-alfred-state/
LOCATION:Student Leadership Center\, Upper College Drive\, Alfred\, NY\, 14802\, United States
CATEGORIES:General Audience
ORGANIZER;CN="Alfred Box of Books Library":MAILTO:alfred@stls.org
END:VEVENT
BEGIN:VEVENT
DTSTART;TZID=UTC:20260128T163000
DTEND;TZID=UTC:20260128T173000
DTSTAMP:20260419T215325
CREATED:20260114T155256Z
LAST-MODIFIED:20260114T155256Z
UID:4960-1769617800-1769621400@alfredboxofbookslibrary.org
SUMMARY:Global Tales Multilingual Storytime
DESCRIPTION:Join us for another multilingual storytime.  This month will be a Spanish storytime with a craft to follow.
URL:https://alfredboxofbookslibrary.org/event/global-tales-multilingual-storytime/
LOCATION:Alfred Box of Books Library\, 1 West University Street\, Alfred\, NY\, 14802-1113\, United States
CATEGORIES:Children's Program,General Audience
ORGANIZER;CN="Alfred Box of Books Library":MAILTO:alfred@stls.org
END:VEVENT
END:VCALENDAR