BEGIN:VCALENDAR
VERSION:2.0
PRODID:-//Alfred Box of Books Library - ECPv6.15.20//NONSGML v1.0//EN
CALSCALE:GREGORIAN
METHOD:PUBLISH
X-ORIGINAL-URL:https://alfredboxofbookslibrary.org
X-WR-CALDESC:Events for Alfred Box of Books Library
REFRESH-INTERVAL;VALUE=DURATION:PT1H
X-Robots-Tag:noindex
X-PUBLISHED-TTL:PT1H
BEGIN:VTIMEZONE
TZID:UTC
BEGIN:STANDARD
TZOFFSETFROM:+0000
TZOFFSETTO:+0000
TZNAME:UTC
DTSTART:20240101T000000
END:STANDARD
END:VTIMEZONE
BEGIN:VEVENT
DTSTART;TZID=UTC:20250217T130000
DTEND;TZID=UTC:20250217T150000
DTSTAMP:20260421T053153
CREATED:20241126T161224Z
LAST-MODIFIED:20241126T161224Z
UID:4012-1739797200-1739804400@alfredboxofbookslibrary.org
SUMMARY:Movie Showing: The Land Before Time
DESCRIPTION:School is out\, but the library is open! Join us for an afternoon movie. We’ll be watching the classic 1988 animated film\, The Land Before Time. Refreshments provided. Children must have adult supervision. \nMovie is rated: G
URL:https://alfredboxofbookslibrary.org/event/movie-showing-the-land-before-time/
LOCATION:Alfred Box of Books Library\, 1 West University Street\, Alfred\, NY\, 14802-1113\, United States
CATEGORIES:General Audience
ORGANIZER;CN="Alfred Box of Books Library":MAILTO:alfred@stls.org
END:VEVENT
END:VCALENDAR