BEGIN:VCALENDAR
VERSION:2.0
PRODID:-//Alfred Box of Books Library - ECPv6.15.20//NONSGML v1.0//EN
CALSCALE:GREGORIAN
METHOD:PUBLISH
X-ORIGINAL-URL:https://alfredboxofbookslibrary.org
X-WR-CALDESC:Events for Alfred Box of Books Library
REFRESH-INTERVAL;VALUE=DURATION:PT1H
X-Robots-Tag:noindex
X-PUBLISHED-TTL:PT1H
BEGIN:VTIMEZONE
TZID:UTC
BEGIN:STANDARD
TZOFFSETFROM:+0000
TZOFFSETTO:+0000
TZNAME:UTC
DTSTART:20240101T000000
END:STANDARD
END:VTIMEZONE
BEGIN:VEVENT
DTSTART;TZID=UTC:20250219T130000
DTEND;TZID=UTC:20250219T143000
DTSTAMP:20260421T053228
CREATED:20241126T161417Z
LAST-MODIFIED:20241126T161417Z
UID:4014-1739970000-1739975400@alfredboxofbookslibrary.org
SUMMARY:Moose Match Mayhem
DESCRIPTION:Join us for an afternoon of card games\, including Moose\, Match\, Mayhem! We’ll also have Taco Cat Goat Cheese Pizza and Uno! Children and caregivers are invited for an afternoon of fun. Refreshments provided.
URL:https://alfredboxofbookslibrary.org/event/moose-match-mayhem/
LOCATION:Alfred Box of Books Library\, 1 West University Street\, Alfred\, NY\, 14802-1113\, United States
CATEGORIES:Children's Program,General Audience
ORGANIZER;CN="Alfred Box of Books Library":MAILTO:alfred@stls.org
END:VEVENT
END:VCALENDAR