BEGIN:VCALENDAR
VERSION:2.0
PRODID:-//Alfred Box of Books Library - ECPv6.15.20//NONSGML v1.0//EN
CALSCALE:GREGORIAN
METHOD:PUBLISH
X-ORIGINAL-URL:https://alfredboxofbookslibrary.org
X-WR-CALDESC:Events for Alfred Box of Books Library
REFRESH-INTERVAL;VALUE=DURATION:PT1H
X-Robots-Tag:noindex
X-PUBLISHED-TTL:PT1H
BEGIN:VTIMEZONE
TZID:UTC
BEGIN:STANDARD
TZOFFSETFROM:+0000
TZOFFSETTO:+0000
TZNAME:UTC
DTSTART:20240101T000000
END:STANDARD
END:VTIMEZONE
BEGIN:VEVENT
DTSTART;TZID=UTC:20250614T100000
DTEND;TZID=UTC:20250614T233000
DTSTAMP:20260420T223859
CREATED:20250317T142111Z
LAST-MODIFIED:20250317T142111Z
UID:4178-1749895200-1749943800@alfredboxofbookslibrary.org
SUMMARY:Mushroom Walk at Foster Lake
DESCRIPTION:Meet up at Foster Lake for a guided mushroom walk with Sam Warren.  Learn to identify and discover local mushrooms. All ages welcome. Children must have parent or guardian supervision at all times. Please dress for the weather. Rain or shine!
URL:https://alfredboxofbookslibrary.org/event/mushroom-walk-at-foster-lake/
LOCATION:Foster Lake\, Alfred\, NY\, 14802
CATEGORIES:General Audience
ORGANIZER;CN="Alfred Box of Books Library":MAILTO:alfred@stls.org
END:VEVENT
END:VCALENDAR