BEGIN:VCALENDAR
VERSION:2.0
PRODID:-//Alfred Box of Books Library - ECPv6.15.20//NONSGML v1.0//EN
CALSCALE:GREGORIAN
METHOD:PUBLISH
X-ORIGINAL-URL:https://alfredboxofbookslibrary.org
X-WR-CALDESC:Events for Alfred Box of Books Library
REFRESH-INTERVAL;VALUE=DURATION:PT1H
X-Robots-Tag:noindex
X-PUBLISHED-TTL:PT1H
BEGIN:VTIMEZONE
TZID:UTC
BEGIN:STANDARD
TZOFFSETFROM:+0000
TZOFFSETTO:+0000
TZNAME:UTC
DTSTART:20240101T000000
END:STANDARD
END:VTIMEZONE
BEGIN:VEVENT
DTSTART;TZID=UTC:20250805T160000
DTEND;TZID=UTC:20250805T170000
DTSTAMP:20260420T205743
CREATED:20250521T191255Z
LAST-MODIFIED:20250521T191255Z
UID:4342-1754409600-1754413200@alfredboxofbookslibrary.org
SUMMARY:Bikes and Books
DESCRIPTION:The Alfred Box of Books Library is once again partnering with A.E. Crandall Hook and Ladder\, Alfred Police Department\, and Bicycle Man to hold a bike safety event.  Get fitted for a free bike helmet and an officer from Alfred PD will go over bike safety. We’ll also have tons of giveaways including FREE books! Bicycle Man will be on hand to show off recumbent bikes and do some minor bike repairs. \nThis year\, we’ll also be hosting a community bike ride.  Ride from the fire hall\, down Main Street\, turn left on Church street\, then left on Mill Street.  Continue left onto West University\, back onto Main street and back to the fire hall.  The fire department will have traffic blocked for this event. \n 
URL:https://alfredboxofbookslibrary.org/event/bikes-and-books/
LOCATION:A.E. Crandall Hook and Ladder  (Alfred Fire Department)\, 4 South Main Street\, Alfred\, NY\, 14802\, United States
CATEGORIES:General Audience
ORGANIZER;CN="Alfred Box of Books Library":MAILTO:alfred@stls.org
END:VEVENT
END:VCALENDAR