BEGIN:VCALENDAR
VERSION:2.0
PRODID:-//Alfred Box of Books Library - ECPv6.15.20//NONSGML v1.0//EN
CALSCALE:GREGORIAN
METHOD:PUBLISH
X-WR-CALNAME:Alfred Box of Books Library
X-ORIGINAL-URL:https://alfredboxofbookslibrary.org
X-WR-CALDESC:Events for Alfred Box of Books Library
REFRESH-INTERVAL;VALUE=DURATION:PT1H
X-Robots-Tag:noindex
X-PUBLISHED-TTL:PT1H
BEGIN:VTIMEZONE
TZID:UTC
BEGIN:STANDARD
TZOFFSETFROM:+0000
TZOFFSETTO:+0000
TZNAME:UTC
DTSTART:20250101T000000
END:STANDARD
END:VTIMEZONE
BEGIN:VEVENT
DTSTART;TZID=UTC:20260323T130000
DTEND;TZID=UTC:20260323T150000
DTSTAMP:20260419T215324
CREATED:20260109T192253Z
LAST-MODIFIED:20260109T192253Z
UID:4913-1774270800-1774278000@alfredboxofbookslibrary.org
SUMMARY:Animals that Hatch
DESCRIPTION:Tanglewood Nature Center will host a program featuring animals that hatch from eggs. Come learn and see these critters in the library!  \nAll ages welcome. Pre-registration not required.
URL:https://alfredboxofbookslibrary.org/event/animals-that-hatch/
LOCATION:Alfred Box of Books Library\, 1 West University Street\, Alfred\, NY\, 14802-1113\, United States
CATEGORIES:General Audience
END:VEVENT
END:VCALENDAR