BEGIN:VCALENDAR
VERSION:2.0
PRODID:-//Alfred Box of Books Library - ECPv6.15.20//NONSGML v1.0//EN
CALSCALE:GREGORIAN
METHOD:PUBLISH
X-WR-CALNAME:Alfred Box of Books Library
X-ORIGINAL-URL:https://alfredboxofbookslibrary.org
X-WR-CALDESC:Events for Alfred Box of Books Library
REFRESH-INTERVAL;VALUE=DURATION:PT1H
X-Robots-Tag:noindex
X-PUBLISHED-TTL:PT1H
BEGIN:VTIMEZONE
TZID:UTC
BEGIN:STANDARD
TZOFFSETFROM:+0000
TZOFFSETTO:+0000
TZNAME:UTC
DTSTART:20250101T000000
END:STANDARD
END:VTIMEZONE
BEGIN:VEVENT
DTSTART;TZID=UTC:20260425T120000
DTEND;TZID=UTC:20260425T160000
DTSTAMP:20260419T181301
CREATED:20260323T150810Z
LAST-MODIFIED:20260323T150810Z
UID:5052-1777118400-1777132800@alfredboxofbookslibrary.org
SUMMARY:Hot Dog Day
DESCRIPTION:The library is once again sponsoring family-friendly actitivities for Hot Dog Day. We will be hosting Badger and Butterfly Studios for face painting and Fun That Pops for balloon animals.  Face painting and balloon animals will be free courtesy of the library!
URL:https://alfredboxofbookslibrary.org/event/hot-dog-day-2/
LOCATION:Alfred Box of Books Library\, 1 West University Street\, Alfred\, NY\, 14802-1113\, United States
CATEGORIES:General Audience
ORGANIZER;CN="Alfred Box of Books Library":MAILTO:alfred@stls.org
END:VEVENT
END:VCALENDAR