BEGIN:VCALENDAR
VERSION:2.0
PRODID:-//Alfred Box of Books Library - ECPv6.15.20//NONSGML v1.0//EN
CALSCALE:GREGORIAN
METHOD:PUBLISH
X-ORIGINAL-URL:https://alfredboxofbookslibrary.org
X-WR-CALDESC:Events for Alfred Box of Books Library
REFRESH-INTERVAL;VALUE=DURATION:PT1H
X-Robots-Tag:noindex
X-PUBLISHED-TTL:PT1H
BEGIN:VTIMEZONE
TZID:UTC
BEGIN:STANDARD
TZOFFSETFROM:+0000
TZOFFSETTO:+0000
TZNAME:UTC
DTSTART:20240101T000000
END:STANDARD
END:VTIMEZONE
BEGIN:VEVENT
DTSTART;TZID=UTC:20250109T130000
DTEND;TZID=UTC:20250109T140000
DTSTAMP:20260421T103053
CREATED:20250106T163346Z
LAST-MODIFIED:20250106T171132Z
UID:4064-1736427600-1736431200@alfredboxofbookslibrary.org
SUMMARY:Master Gardener Talk: The Artist Recreates the Garden
DESCRIPTION:Join us for a talk by Mary Lu Wells as she shared artworks inspired by gardens. She will share images of over 15 works of art spanning several cultures and over 2\,500 years of history depicting the garden in all its glory. Works shared will include paintings\, wood\, silk\, and glass.
URL:https://alfredboxofbookslibrary.org/event/master-gardener-talk-the-artist-recreates-the-garden/
LOCATION:Alfred Box of Books Library\, 1 West University Street\, Alfred\, NY\, 14802-1113\, United States
CATEGORIES:Adult Programs
ORGANIZER;CN="Alfred Box of Books Library":MAILTO:alfred@stls.org
END:VEVENT
BEGIN:VEVENT
DTSTART;TZID=UTC:20250115T160000
DTEND;TZID=UTC:20250115T170000
DTSTAMP:20260421T103053
CREATED:20241126T160137Z
LAST-MODIFIED:20241126T160137Z
UID:4002-1736956800-1736960400@alfredboxofbookslibrary.org
SUMMARY:Understanding AI
DESCRIPTION:Artificial Intelligence (AI) is a hot topic\, leaving many of us with questions.  Learn about what AI is\, how to use it\, and what it means for you.  Join us for an informational session with Alfred University’s Information Literacy Librarian\, Kevin Adams and demystify AI.
URL:https://alfredboxofbookslibrary.org/event/understanding-ai/
LOCATION:Alfred Box of Books Library\, 1 West University Street\, Alfred\, NY\, 14802-1113\, United States
CATEGORIES:Adult Programs
ORGANIZER;CN="Alfred Box of Books Library":MAILTO:alfred@stls.org
END:VEVENT
BEGIN:VEVENT
DTSTART;TZID=UTC:20250120T130000
DTEND;TZID=UTC:20250120T140000
DTSTAMP:20260421T103053
CREATED:20241126T160355Z
LAST-MODIFIED:20241126T160355Z
UID:4004-1737378000-1737381600@alfredboxofbookslibrary.org
SUMMARY:Happy Hugs Pig Therapy
DESCRIPTION:School is out\, but the library is open! Join us for a visit from Happy Hugs Pig Therapy.  Enjoy a pig-themed story and learn all about pigs!
URL:https://alfredboxofbookslibrary.org/event/happy-hugs-pig-therapy/
LOCATION:Alfred Box of Books Library\, 1 West University Street\, Alfred\, NY\, 14802-1113\, United States
CATEGORIES:General Audience
ORGANIZER;CN="Alfred Box of Books Library":MAILTO:alfred@stls.org
END:VEVENT
BEGIN:VEVENT
DTSTART;TZID=UTC:20250122T160000
DTEND;TZID=UTC:20250122T173000
DTSTAMP:20260421T103053
CREATED:20241218T200418Z
LAST-MODIFIED:20241218T200418Z
UID:4044-1737561600-1737567000@alfredboxofbookslibrary.org
SUMMARY:Ceramic Art Museum Tour
DESCRIPTION:Meet us at the Alfred Ceramic Art Museum for a special guided tour.  The library will provided light refreshments.
URL:https://alfredboxofbookslibrary.org/event/ceramic-art-museum-tour/
LOCATION:Alfred Ceramics Museum\, Pine Street\, Alfred\, NY\, 14802\, United States
CATEGORIES:General Audience
ORGANIZER;CN="Alfred Box of Books Library":MAILTO:alfred@stls.org
END:VEVENT
BEGIN:VEVENT
DTSTART;TZID=UTC:20250127T160000
DTEND;TZID=UTC:20250127T180000
DTSTAMP:20260421T103053
CREATED:20241218T200622Z
LAST-MODIFIED:20241218T200622Z
UID:4047-1737993600-1738000800@alfredboxofbookslibrary.org
SUMMARY:Lunar New Year Celebration
DESCRIPTION:Join us at the library for live music performed on the guzheng and a lion dance demonstration.  We will also make a small ornament with Chinese calligraphy. Refreshments provided.
URL:https://alfredboxofbookslibrary.org/event/lunar-new-year-celebration/
LOCATION:Alfred Box of Books Library\, 1 West University Street\, Alfred\, NY\, 14802-1113\, United States
CATEGORIES:General Audience
ORGANIZER;CN="Alfred Box of Books Library":MAILTO:alfred@stls.org
END:VEVENT
END:VCALENDAR