BEGIN:VCALENDAR
VERSION:2.0
PRODID:-//Alfred Box of Books Library - ECPv6.15.20//NONSGML v1.0//EN
CALSCALE:GREGORIAN
METHOD:PUBLISH
X-ORIGINAL-URL:https://alfredboxofbookslibrary.org
X-WR-CALDESC:Events for Alfred Box of Books Library
REFRESH-INTERVAL;VALUE=DURATION:PT1H
X-Robots-Tag:noindex
X-PUBLISHED-TTL:PT1H
BEGIN:VTIMEZONE
TZID:UTC
BEGIN:STANDARD
TZOFFSETFROM:+0000
TZOFFSETTO:+0000
TZNAME:UTC
DTSTART:20230101T000000
END:STANDARD
END:VTIMEZONE
BEGIN:VEVENT
DTSTART;TZID=UTC:20241022T170000
DTEND;TZID=UTC:20241022T180000
DTSTAMP:20260422T010151
CREATED:20241011T212537Z
LAST-MODIFIED:20241011T212537Z
UID:3900-1729616400-1729620000@alfredboxofbookslibrary.org
SUMMARY:Perry Ground Presents "Spooky Stories From the People of the Longhouse"
DESCRIPTION:The Box of Books and Libraries at Alfred University will be hosting Perry Ground\, storyteller and member of the Turtle Clan of the Onondaga Nation of the Haudenosaunee Confederacy.  Perry will be sharing his “Stories From the People of the Longhouse” with a slightly spooky twist.  This event is planned for the lawn outside Herrick Library on the Alfred University campus. There will be a small bonfire as well as cider and donuts. In the event of rain\, the event will move to the Book End Lounge in Herrick Library.
URL:https://alfredboxofbookslibrary.org/event/perry-ground-presents-spooky-stories-from-the-people-of-the-longhouse/
LOCATION:Book Lounge Herrick Memorial Library\, Alfred\, NY\, 14802\, United States
CATEGORIES:General Audience
END:VEVENT
END:VCALENDAR