BEGIN:VCALENDAR
VERSION:2.0
PRODID:-//Alfred Box of Books Library - ECPv6.15.20//NONSGML v1.0//EN
CALSCALE:GREGORIAN
METHOD:PUBLISH
X-ORIGINAL-URL:https://alfredboxofbookslibrary.org
X-WR-CALDESC:Events for Alfred Box of Books Library
REFRESH-INTERVAL;VALUE=DURATION:PT1H
X-Robots-Tag:noindex
X-PUBLISHED-TTL:PT1H
BEGIN:VTIMEZONE
TZID:UTC
BEGIN:STANDARD
TZOFFSETFROM:+0000
TZOFFSETTO:+0000
TZNAME:UTC
DTSTART:20240101T000000
END:STANDARD
END:VTIMEZONE
BEGIN:VEVENT
DTSTART;TZID=UTC:20250521T170000
DTEND;TZID=UTC:20250521T180000
DTSTAMP:20260421T034851
CREATED:20250416T175600Z
LAST-MODIFIED:20250416T175600Z
UID:4224-1747846800-1747850400@alfredboxofbookslibrary.org
SUMMARY:Guinea Pig Visit
DESCRIPTION:We’ve rescheduled our visit from guinea pigs with Kelly’s Critter Crew! Join us Wednesday\, May 21 at 5:00pm to visit with guinea pigs and other cuddly creatures!
URL:https://alfredboxofbookslibrary.org/event/guinea-pig-visit/
LOCATION:Alfred Box of Books Library\, 1 West University Street\, Alfred\, NY\, 14802-1113\, United States
CATEGORIES:Children's Program,General Audience
ORGANIZER;CN="Alfred Box of Books Library":MAILTO:alfred@stls.org
END:VEVENT
END:VCALENDAR