BEGIN:VCALENDAR
VERSION:2.0
PRODID:-//Alfred Box of Books Library - ECPv6.15.20//NONSGML v1.0//EN
CALSCALE:GREGORIAN
METHOD:PUBLISH
X-ORIGINAL-URL:https://alfredboxofbookslibrary.org
X-WR-CALDESC:Events for Alfred Box of Books Library
REFRESH-INTERVAL;VALUE=DURATION:PT1H
X-Robots-Tag:noindex
X-PUBLISHED-TTL:PT1H
BEGIN:VTIMEZONE
TZID:UTC
BEGIN:STANDARD
TZOFFSETFROM:+0000
TZOFFSETTO:+0000
TZNAME:UTC
DTSTART:20250101T000000
END:STANDARD
END:VTIMEZONE
BEGIN:VEVENT
DTSTART;TZID=UTC:20260219T130000
DTEND;TZID=UTC:20260219T140000
DTSTAMP:20260419T213328
CREATED:20260109T191045Z
LAST-MODIFIED:20260109T191045Z
UID:4905-1771506000-1771509600@alfredboxofbookslibrary.org
SUMMARY:Flight Path Academy
DESCRIPTION:Learn about local bird migration with hands-on activities.  In this second session of our Flight Path Academy\, participants will learn about ways in which humans impact bird migrations and ways in which we can help keep birds safe. Participants will create window art and will use bird tape to ensure the library windows are safe for migrating birds.  Activities in this program are for children ages 6+.  \nParticipants will hear from Dr. Fred Beaudry\, a professor of Environmental Science at Alfred University.  Dr. Beaudry specializes in bird ecology and conservation.
URL:https://alfredboxofbookslibrary.org/event/flight-path-academy-2/
LOCATION:Alfred Box of Books Library\, 1 West University Street\, Alfred\, NY\, 14802-1113\, United States
CATEGORIES:Children's Program
ORGANIZER;CN="Alfred Box of Books Library":MAILTO:alfred@stls.org
END:VEVENT
END:VCALENDAR